BEGIN:VCALENDAR
VERSION:2.0
PRODID:-//Visit Harlingen, Texas - ECPv6.15.20//NONSGML v1.0//EN
CALSCALE:GREGORIAN
METHOD:PUBLISH
X-ORIGINAL-URL:https://visitharlingentexas.com
X-WR-CALDESC:Events for Visit Harlingen, Texas
REFRESH-INTERVAL;VALUE=DURATION:PT1H
X-Robots-Tag:noindex
X-PUBLISHED-TTL:PT1H
BEGIN:VTIMEZONE
TZID:America/Chicago
BEGIN:DAYLIGHT
TZOFFSETFROM:-0600
TZOFFSETTO:-0500
TZNAME:CDT
DTSTART:20180311T080000
END:DAYLIGHT
BEGIN:STANDARD
TZOFFSETFROM:-0500
TZOFFSETTO:-0600
TZNAME:CST
DTSTART:20181104T070000
END:STANDARD
BEGIN:DAYLIGHT
TZOFFSETFROM:-0600
TZOFFSETTO:-0500
TZNAME:CDT
DTSTART:20190310T080000
END:DAYLIGHT
BEGIN:STANDARD
TZOFFSETFROM:-0500
TZOFFSETTO:-0600
TZNAME:CST
DTSTART:20191103T070000
END:STANDARD
BEGIN:DAYLIGHT
TZOFFSETFROM:-0600
TZOFFSETTO:-0500
TZNAME:CDT
DTSTART:20200308T080000
END:DAYLIGHT
BEGIN:STANDARD
TZOFFSETFROM:-0500
TZOFFSETTO:-0600
TZNAME:CST
DTSTART:20201101T070000
END:STANDARD
END:VTIMEZONE
BEGIN:VEVENT
DTSTART;TZID=America/Chicago:20190531T190000
DTEND;TZID=America/Chicago:20190531T220000
DTSTAMP:20260422T082326
CREATED:20190529T172223Z
LAST-MODIFIED:20190529T172223Z
UID:2262-1559329200-1559340000@visitharlingentexas.com
SUMMARY:Harlingen Art Night
DESCRIPTION:Harlingen Art Night scheduled for the last Friday of each month from 7 – 10 p..m. is a wonderful Downtown Harlingen evening event that celebrates local art and artists. Merchants open up their businesses showcasing artists and offering refreshments\, galleries host artists and exhibitions\, live music is featured at various venues and at the outdoor Lozano Plaza stage. There is an artist alley called ” Art on A St. ” where artists can showcase and sell their original work during the evening. Stroll down the twinkling lights of historic Downtown Harlingen and enjoy the murals\, oringal art\, live music\, shops and restaurants of beautiful Downtown Harlingen!
URL:https://visitharlingentexas.com/event/harlingen-art-night-2/2019-05-31/
LOCATION:Downtown Harlingen\, Harlingen\, TX\, 78550\, United States
ATTACH;FMTTYPE=image/jpeg:https://visitharlingentexas.com/wp-content/uploads/2019/05/art-night-june-2019.jpg
GEO:26.192771;-97.69603
END:VEVENT
END:VCALENDAR