BEGIN:VCALENDAR
VERSION:2.0
PRODID:-//Visit Harlingen, Texas - ECPv6.15.20//NONSGML v1.0//EN
CALSCALE:GREGORIAN
METHOD:PUBLISH
X-WR-CALNAME:Visit Harlingen, Texas
X-ORIGINAL-URL:https://visitharlingentexas.com
X-WR-CALDESC:Events for Visit Harlingen, Texas
REFRESH-INTERVAL;VALUE=DURATION:PT1H
X-Robots-Tag:noindex
X-PUBLISHED-TTL:PT1H
BEGIN:VTIMEZONE
TZID:America/Chicago
BEGIN:DAYLIGHT
TZOFFSETFROM:-0600
TZOFFSETTO:-0500
TZNAME:CDT
DTSTART:20190310T080000
END:DAYLIGHT
BEGIN:STANDARD
TZOFFSETFROM:-0500
TZOFFSETTO:-0600
TZNAME:CST
DTSTART:20191103T070000
END:STANDARD
BEGIN:DAYLIGHT
TZOFFSETFROM:-0600
TZOFFSETTO:-0500
TZNAME:CDT
DTSTART:20200308T080000
END:DAYLIGHT
BEGIN:STANDARD
TZOFFSETFROM:-0500
TZOFFSETTO:-0600
TZNAME:CST
DTSTART:20201101T070000
END:STANDARD
BEGIN:DAYLIGHT
TZOFFSETFROM:-0600
TZOFFSETTO:-0500
TZNAME:CDT
DTSTART:20210314T080000
END:DAYLIGHT
BEGIN:STANDARD
TZOFFSETFROM:-0500
TZOFFSETTO:-0600
TZNAME:CST
DTSTART:20211107T070000
END:STANDARD
END:VTIMEZONE
BEGIN:VEVENT
DTSTART;TZID=America/Chicago:20201205T150000
DTEND;TZID=America/Chicago:20201205T163000
DTSTAMP:20260422T065630
CREATED:20201201T154835Z
LAST-MODIFIED:20201204T153359Z
UID:2714-1607180400-1607185800@visitharlingentexas.com
SUMMARY:Harlingen Farmers Market
DESCRIPTION:The Harlingen Farmers Market offers the community locally grown produce and food products using local ingredients\, while encouraging healthy lifestyles and activities\, economically supporting vendors\, and fostering new growers and gardens.
URL:https://visitharlingentexas.com/event/harlingen-farmers-market-3/2020-12-05/
LOCATION:2nd and Tyler Ave. Harlingen\, TX
ATTACH;FMTTYPE=image/jpeg:https://visitharlingentexas.com/wp-content/uploads/2020/11/farmers-market-harlingen-v2.jpg
END:VEVENT
END:VCALENDAR