BEGIN:VCALENDAR
VERSION:2.0
PRODID:-//Visit Harlingen, Texas - ECPv6.15.20//NONSGML v1.0//EN
CALSCALE:GREGORIAN
METHOD:PUBLISH
X-WR-CALNAME:Visit Harlingen, Texas
X-ORIGINAL-URL:https://visitharlingentexas.com
X-WR-CALDESC:Events for Visit Harlingen, Texas
REFRESH-INTERVAL;VALUE=DURATION:PT1H
X-Robots-Tag:noindex
X-PUBLISHED-TTL:PT1H
BEGIN:VTIMEZONE
TZID:America/Chicago
BEGIN:DAYLIGHT
TZOFFSETFROM:-0600
TZOFFSETTO:-0500
TZNAME:CDT
DTSTART:20190310T080000
END:DAYLIGHT
BEGIN:STANDARD
TZOFFSETFROM:-0500
TZOFFSETTO:-0600
TZNAME:CST
DTSTART:20191103T070000
END:STANDARD
BEGIN:DAYLIGHT
TZOFFSETFROM:-0600
TZOFFSETTO:-0500
TZNAME:CDT
DTSTART:20200308T080000
END:DAYLIGHT
BEGIN:STANDARD
TZOFFSETFROM:-0500
TZOFFSETTO:-0600
TZNAME:CST
DTSTART:20201101T070000
END:STANDARD
BEGIN:DAYLIGHT
TZOFFSETFROM:-0600
TZOFFSETTO:-0500
TZNAME:CDT
DTSTART:20210314T080000
END:DAYLIGHT
BEGIN:STANDARD
TZOFFSETFROM:-0500
TZOFFSETTO:-0600
TZNAME:CST
DTSTART:20211107T070000
END:STANDARD
END:VTIMEZONE
BEGIN:VEVENT
DTSTART;TZID=America/Chicago:20200118T080000
DTEND;TZID=America/Chicago:20200315T170000
DTSTAMP:20260420T034856
CREATED:20200210T142229Z
LAST-MODIFIED:20200210T142403Z
UID:2598-1579334400-1584291600@visitharlingentexas.com
SUMMARY:National Quilt Museum
DESCRIPTION:The National Quilt Museum has once again provided us with a BEAUTIFUL quilt exhibit. We hope you can stop by and see these wonderful creations. \nGallery Talks: January 21 – 11am and February 21 – 11am. \nFor more information on getting a private Gallery Talk please contact the museum at 216-4901.
URL:https://visitharlingentexas.com/event/national-quilt-museum/
LOCATION:Harlingen Arts & Heritage Museum\, 2425 Boxwood\, Harlingen\, TX\, 78550\, United States
ATTACH;FMTTYPE=image/jpeg:https://visitharlingentexas.com/wp-content/uploads/2020/02/79930488_2564875620247477_669474861873102848_o.jpg
GEO:26.2167902;-97.6673158
X-APPLE-STRUCTURED-LOCATION;VALUE=URI;X-ADDRESS=Harlingen Arts & Heritage Museum 2425 Boxwood Harlingen TX 78550 United States;X-APPLE-RADIUS=500;X-TITLE=2425 Boxwood:geo:-97.6673158,26.2167902
END:VEVENT
BEGIN:VEVENT
DTSTART;TZID=America/Chicago:20200304T193000
DTEND;TZID=America/Chicago:20200304T223000
DTSTAMP:20260420T034856
CREATED:20190719T180148Z
LAST-MODIFIED:20190719T180148Z
UID:2305-1583350200-1583361000@visitharlingentexas.com
SUMMARY:Sail On - Beach Boys Tribute
DESCRIPTION:Sail On brings a young look and authentic sound reminiscent of the original Beach Boys during the prime of their career. The group’s harmonies capture the sound of the iconic band and transport the audience to the beach for an evening of memories and Fun\, Fun\, Fun. Energetic and youthful tribute to “America’s band.” \nPurchase tickets at https://harlingenconcert.com/
URL:https://visitharlingentexas.com/event/sail-on-beach-boys-tribute/
LOCATION:Harlingen Municipal Auditorium\, 1204 Fair Park Blvd.\, Harlingen\, TX\, 78550\, United States
GEO:26.1999326;-97.7081063
X-APPLE-STRUCTURED-LOCATION;VALUE=URI;X-ADDRESS=Harlingen Municipal Auditorium 1204 Fair Park Blvd. Harlingen TX 78550 United States;X-APPLE-RADIUS=500;X-TITLE=1204 Fair Park Blvd.:geo:-97.7081063,26.1999326
END:VEVENT
BEGIN:VEVENT
DTSTART;TZID=America/Chicago:20200307T090000
DTEND;TZID=America/Chicago:20200307T123000
DTSTAMP:20260420T034856
CREATED:20200224T205050Z
LAST-MODIFIED:20200224T205120Z
UID:2608-1583571600-1583584200@visitharlingentexas.com
SUMMARY:Rabies Clinic
DESCRIPTION:
URL:https://visitharlingentexas.com/event/rabbies-clinic/
LOCATION:Harlingen Humane Society\, 1106 Markowsky Ave\, Harlingen\, TX\, 78550\, United States
ATTACH;FMTTYPE=image/png:https://visitharlingentexas.com/wp-content/uploads/2020/02/Rabbies-Clinic-English.png
END:VEVENT
BEGIN:VEVENT
DTSTART;TZID=America/Chicago:20200313T193000
DTEND;TZID=America/Chicago:20200313T223000
DTSTAMP:20260420T034856
CREATED:20190719T175120Z
LAST-MODIFIED:20190719T175120Z
UID:2301-1584127800-1584138600@visitharlingentexas.com
SUMMARY:Burlap to Cashmere
DESCRIPTION:Resurrecting the storied Greenwich Village music scene\, Burlap to Cashmere draws from influential artists such as Simon and Garfunkel\, James Taylor and Bob Dylan. With a unique sound and energetic live shows the band rose to critical acclaim and went on to sell a half million records. Folk music revival. \nPurchase tickets at https://harlingenconcert.com/
URL:https://visitharlingentexas.com/event/burlap-to-cashmere/
LOCATION:Harlingen Municipal Auditorium\, 1204 Fair Park Blvd.\, Harlingen\, TX\, 78550\, United States
GEO:26.1999326;-97.7081063
X-APPLE-STRUCTURED-LOCATION;VALUE=URI;X-ADDRESS=Harlingen Municipal Auditorium 1204 Fair Park Blvd. Harlingen TX 78550 United States;X-APPLE-RADIUS=500;X-TITLE=1204 Fair Park Blvd.:geo:-97.7081063,26.1999326
END:VEVENT
BEGIN:VEVENT
DTSTART;TZID=America/Chicago:20200328T170000
DTEND;TZID=America/Chicago:20200328T210000
DTSTAMP:20260420T034856
CREATED:20200212T224645Z
LAST-MODIFIED:20200212T224645Z
UID:2601-1585414800-1585429200@visitharlingentexas.com
SUMMARY:Rotary Shrimp Fest
DESCRIPTION:ickets on sale now! \nEvent will be on Jackson Street in Downtown Harlingen. Food Tastings | Shrimp Plates | Adult Beverages | Live Entertainment | Silent Auction & Raffles \nWe are looking for sponsored food booths and financial sponsors. We expect 1500 – 2000 attendees and it provides great marketing exposure! \nBuy your tickets from your favorite Rotarian or buy them online at the attached link. \nhttps://rotaryshrimpfestofsouthte.simpletix.com/e/50485?fbclid=IwAR1QEa2uAxTTOg48jQVzkQk_P6HP2d6jfE002TtLIWjXxWiukP8TuLJ_QMU \n 
URL:https://visitharlingentexas.com/event/rotary-shrimp-fest/
LOCATION:Downtown Harlingen\, Harlingen\, TX\, 78550\, United States
ATTACH;FMTTYPE=image/jpeg:https://visitharlingentexas.com/wp-content/uploads/2020/02/Rotary-Shrimp-Fest-2020.jpg
GEO:26.192771;-97.69603
END:VEVENT
END:VCALENDAR