BEGIN:VCALENDAR
VERSION:2.0
PRODID:-//Visit Harlingen, Texas - ECPv6.15.20//NONSGML v1.0//EN
CALSCALE:GREGORIAN
METHOD:PUBLISH
X-WR-CALNAME:Visit Harlingen, Texas
X-ORIGINAL-URL:https://visitharlingentexas.com
X-WR-CALDESC:Events for Visit Harlingen, Texas
REFRESH-INTERVAL;VALUE=DURATION:PT1H
X-Robots-Tag:noindex
X-PUBLISHED-TTL:PT1H
BEGIN:VTIMEZONE
TZID:America/Chicago
BEGIN:DAYLIGHT
TZOFFSETFROM:-0600
TZOFFSETTO:-0500
TZNAME:CDT
DTSTART:20190310T080000
END:DAYLIGHT
BEGIN:STANDARD
TZOFFSETFROM:-0500
TZOFFSETTO:-0600
TZNAME:CST
DTSTART:20191103T070000
END:STANDARD
BEGIN:DAYLIGHT
TZOFFSETFROM:-0600
TZOFFSETTO:-0500
TZNAME:CDT
DTSTART:20200308T080000
END:DAYLIGHT
BEGIN:STANDARD
TZOFFSETFROM:-0500
TZOFFSETTO:-0600
TZNAME:CST
DTSTART:20201101T070000
END:STANDARD
BEGIN:DAYLIGHT
TZOFFSETFROM:-0600
TZOFFSETTO:-0500
TZNAME:CDT
DTSTART:20210314T080000
END:DAYLIGHT
BEGIN:STANDARD
TZOFFSETFROM:-0500
TZOFFSETTO:-0600
TZNAME:CST
DTSTART:20211107T070000
END:STANDARD
END:VTIMEZONE
BEGIN:VEVENT
DTSTART;TZID=America/Chicago:20200425T190000
DTEND;TZID=America/Chicago:20200425T220000
DTSTAMP:20260420T082013
CREATED:20200224T200611Z
LAST-MODIFIED:20200224T200630Z
UID:2605-1587841200-1587852000@visitharlingentexas.com
SUMMARY:Wine & Whiskers Harlingen
DESCRIPTION:We are thrilled to announce our 4th Annual Wine and Whiskers\, to be held Saturday. April 25\, 2020 benefitting the Humane Society of Harlingen! Established as a nonprofit in 1988\, the society relies primarily on generous contributions from the community to fund lifesaving efforts for the more than 6\,000 animals we serve each year. We could not exist without continued support from the community. \nAt this year’s event we will be honoring Dr. William Thomas “Tom” Mosely\, beloved local veterinarian and lifelong animal advocate. Dr. Mosely passed in May of 2018\, leaving a legacy of more than 50 years of care and service to pets and families throughout the Rio Grande Valley. As one family member noted\, his life was a perfect example of Winston Churchill’s quote\, “We make a living by what we get\, but we make a life by what we give.” We’re proud to be celebrating Dr. Mosely’s life at this year’s event\, and grateful to Eloise Martin Mosely\, Marilyn LaMantia\, and Brenda Mosely for their support. \nOur event will feature an unforgettable evening of food\, fellowship\, music\, and charitable casino games. For ticket and sponsorship information\, please contact Sarah at 956-454-1274 or wineandwhiskers@hshtx.org
URL:https://visitharlingentexas.com/event/wine-whiskers-harlingen/
LOCATION:Harlingen Convention Center\, 701 Harlingen Heights Dr\, Harlingen\, TX\, 78552\, United States
ATTACH;FMTTYPE=image/png:https://visitharlingentexas.com/wp-content/uploads/2020/02/Wine-and-Whiskers-2020.png
GEO:26.1991099;-97.7238134
X-APPLE-STRUCTURED-LOCATION;VALUE=URI;X-ADDRESS=Harlingen Convention Center 701 Harlingen Heights Dr Harlingen TX 78552 United States;X-APPLE-RADIUS=500;X-TITLE=701 Harlingen Heights Dr:geo:-97.7238134,26.1991099
END:VEVENT
END:VCALENDAR