BEGIN:VCALENDAR
VERSION:2.0
PRODID:-//Visit Harlingen, Texas - ECPv6.15.20//NONSGML v1.0//EN
CALSCALE:GREGORIAN
METHOD:PUBLISH
X-ORIGINAL-URL:https://visitharlingentexas.com
X-WR-CALDESC:Events for Visit Harlingen, Texas
REFRESH-INTERVAL;VALUE=DURATION:PT1H
X-Robots-Tag:noindex
X-PUBLISHED-TTL:PT1H
BEGIN:VTIMEZONE
TZID:America/Chicago
BEGIN:DAYLIGHT
TZOFFSETFROM:-0600
TZOFFSETTO:-0500
TZNAME:CDT
DTSTART:20250309T080000
END:DAYLIGHT
BEGIN:STANDARD
TZOFFSETFROM:-0500
TZOFFSETTO:-0600
TZNAME:CST
DTSTART:20251102T070000
END:STANDARD
BEGIN:DAYLIGHT
TZOFFSETFROM:-0600
TZOFFSETTO:-0500
TZNAME:CDT
DTSTART:20260308T080000
END:DAYLIGHT
BEGIN:STANDARD
TZOFFSETFROM:-0500
TZOFFSETTO:-0600
TZNAME:CST
DTSTART:20261101T070000
END:STANDARD
BEGIN:DAYLIGHT
TZOFFSETFROM:-0600
TZOFFSETTO:-0500
TZNAME:CDT
DTSTART:20270314T080000
END:DAYLIGHT
BEGIN:STANDARD
TZOFFSETFROM:-0500
TZOFFSETTO:-0600
TZNAME:CST
DTSTART:20271107T070000
END:STANDARD
END:VTIMEZONE
BEGIN:VEVENT
DTSTART;TZID=America/Chicago:20260110T080000
DTEND;TZID=America/Chicago:20260110T100000
DTSTAMP:20260423T080448
CREATED:20260109T215518Z
LAST-MODIFIED:20260109T215518Z
UID:4616-1768032000-1768039200@visitharlingentexas.com
SUMMARY:Revitalization Walk- Pendleton Park Pavillion
DESCRIPTION:
URL:https://visitharlingentexas.com/event/revitalization-walk-pendleton-park-pavillion/
LOCATION:TX
ATTACH;FMTTYPE=image/jpeg:https://visitharlingentexas.com/wp-content/uploads/2026/01/RevitalizationWalk.jpg
END:VEVENT
BEGIN:VEVENT
DTSTART;TZID=America/Chicago:20260110T080000
DTEND;TZID=America/Chicago:20260110T170000
DTSTAMP:20260423T080448
CREATED:20260109T214520Z
LAST-MODIFIED:20260109T214520Z
UID:4604-1768032000-1768064400@visitharlingentexas.com
SUMMARY:Table Tennis Tournament
DESCRIPTION:
URL:https://visitharlingentexas.com/event/table-tennis-tournament/
LOCATION:Harlingen Community Center\, 201 E. Madison Ave.\, Harlingen\, TX\, 78550\, United States
ATTACH;FMTTYPE=image/jpeg:https://visitharlingentexas.com/wp-content/uploads/2026/01/TableTennisTournament.jpg
END:VEVENT
BEGIN:VEVENT
DTSTART;TZID=America/Chicago:20260110T153000
DTEND;TZID=America/Chicago:20260110T170000
DTSTAMP:20260423T080448
CREATED:20260109T215156Z
LAST-MODIFIED:20260109T215156Z
UID:4611-1768059000-1768064400@visitharlingentexas.com
SUMMARY:UTRGV Tennis
DESCRIPTION:
URL:https://visitharlingentexas.com/event/utrgv-tennis/
LOCATION:TX
ATTACH;FMTTYPE=image/jpeg:https://visitharlingentexas.com/wp-content/uploads/2026/01/UTRGVTennis.jpg
END:VEVENT
BEGIN:VEVENT
DTSTART;TZID=America/Chicago:20260114T133000
DTEND;TZID=America/Chicago:20260114T143000
DTSTAMP:20260423T080448
CREATED:20260109T215343Z
LAST-MODIFIED:20260109T215343Z
UID:4613-1768397400-1768401000@visitharlingentexas.com
SUMMARY:Storm Preparedness Meeting
DESCRIPTION:
URL:https://visitharlingentexas.com/event/storm-preparedness-meeting/
LOCATION:Harlingen City Hall\, 118 E Tyler Ave\, Harlingen\, TX\, 78550\, United States
ATTACH;FMTTYPE=image/jpeg:https://visitharlingentexas.com/wp-content/uploads/2026/01/StormPrepardnessMeeting.jpg
END:VEVENT
BEGIN:VEVENT
DTSTART;TZID=America/Chicago:20260115T080000
DTEND;TZID=America/Chicago:20260313T170000
DTSTAMP:20260423T080448
CREATED:20260109T214957Z
LAST-MODIFIED:20260109T214957Z
UID:4610-1768464000-1773421200@visitharlingentexas.com
SUMMARY:Quilt Show Exhibit
DESCRIPTION:
URL:https://visitharlingentexas.com/event/quilt-show-exhibit/
LOCATION:Harlingen Arts & Heritage Museum\, 2425 Boxwood\, Harlingen\, TX\, 78550\, United States
ATTACH;FMTTYPE=image/jpeg:https://visitharlingentexas.com/wp-content/uploads/2026/01/QuiltShow.jpg
GEO:26.2167902;-97.6673158
X-APPLE-STRUCTURED-LOCATION;VALUE=URI;X-ADDRESS=Harlingen Arts & Heritage Museum 2425 Boxwood Harlingen TX 78550 United States;X-APPLE-RADIUS=500;X-TITLE=2425 Boxwood:geo:-97.6673158,26.2167902
END:VEVENT
BEGIN:VEVENT
DTSTART;TZID=America/Chicago:20260117T190000
DTEND;TZID=America/Chicago:20260117T220000
DTSTAMP:20260423T080448
CREATED:20260109T214650Z
LAST-MODIFIED:20260109T214650Z
UID:4606-1768676400-1768687200@visitharlingentexas.com
SUMMARY:4th Annual Family Comedy Night
DESCRIPTION:
URL:https://visitharlingentexas.com/event/4th-annual-family-comedy-night/
LOCATION:Harlingen Community Theater\, 1209 Fair Park Blvd.\, Harlingen\, TX\, 78550\, United States
ATTACH;FMTTYPE=image/jpeg:https://visitharlingentexas.com/wp-content/uploads/2026/01/4thAnnualFamilyComedyNight.jpg
END:VEVENT
BEGIN:VEVENT
DTSTART;TZID=America/Chicago:20260120T193000
DTEND;TZID=America/Chicago:20260120T193000
DTSTAMP:20260423T080448
CREATED:20250815T190707Z
LAST-MODIFIED:20250815T190707Z
UID:4527-1768937400-1768937400@visitharlingentexas.com
SUMMARY:PIANOMANIA
DESCRIPTION:
URL:https://visitharlingentexas.com/event/pianomania/
LOCATION:Christian Fellowship Church\, North Loop 499\, Harlingen\, Texas\, 78550\, United States
ATTACH;FMTTYPE=image/jpeg:https://visitharlingentexas.com/wp-content/uploads/2025/08/HarlingenConcertAssociation.jpg
GEO:26.222212;-97.6853716
X-APPLE-STRUCTURED-LOCATION;VALUE=URI;X-ADDRESS=Christian Fellowship Church North Loop 499 Harlingen Texas 78550 United States;X-APPLE-RADIUS=500;X-TITLE=North Loop 499:geo:-97.6853716,26.222212
END:VEVENT
BEGIN:VEVENT
DTSTART;TZID=America/Chicago:20260131T120000
DTEND;TZID=America/Chicago:20260131T160000
DTSTAMP:20260423T080448
CREATED:20260109T214859Z
LAST-MODIFIED:20260109T214859Z
UID:4608-1769860800-1769875200@visitharlingentexas.com
SUMMARY:Quilt Show Opening Reception
DESCRIPTION:
URL:https://visitharlingentexas.com/event/quilt-show-opening-reception/
LOCATION:Harlingen Arts & Heritage Museum\, 2425 Boxwood\, Harlingen\, TX\, 78550\, United States
ATTACH;FMTTYPE=image/jpeg:https://visitharlingentexas.com/wp-content/uploads/2026/01/QuiltShow.jpg
GEO:26.2167902;-97.6673158
X-APPLE-STRUCTURED-LOCATION;VALUE=URI;X-ADDRESS=Harlingen Arts & Heritage Museum 2425 Boxwood Harlingen TX 78550 United States;X-APPLE-RADIUS=500;X-TITLE=2425 Boxwood:geo:-97.6673158,26.2167902
END:VEVENT
END:VCALENDAR