BEGIN:VCALENDAR
VERSION:2.0
PRODID:-//Visit Harlingen, Texas - ECPv6.15.20//NONSGML v1.0//EN
CALSCALE:GREGORIAN
METHOD:PUBLISH
X-ORIGINAL-URL:https://visitharlingentexas.com
X-WR-CALDESC:Events for Visit Harlingen, Texas
REFRESH-INTERVAL;VALUE=DURATION:PT1H
X-Robots-Tag:noindex
X-PUBLISHED-TTL:PT1H
BEGIN:VTIMEZONE
TZID:America/Chicago
BEGIN:DAYLIGHT
TZOFFSETFROM:-0600
TZOFFSETTO:-0500
TZNAME:CDT
DTSTART:20240310T080000
END:DAYLIGHT
BEGIN:STANDARD
TZOFFSETFROM:-0500
TZOFFSETTO:-0600
TZNAME:CST
DTSTART:20241103T070000
END:STANDARD
BEGIN:DAYLIGHT
TZOFFSETFROM:-0600
TZOFFSETTO:-0500
TZNAME:CDT
DTSTART:20250309T080000
END:DAYLIGHT
BEGIN:STANDARD
TZOFFSETFROM:-0500
TZOFFSETTO:-0600
TZNAME:CST
DTSTART:20251102T070000
END:STANDARD
BEGIN:DAYLIGHT
TZOFFSETFROM:-0600
TZOFFSETTO:-0500
TZNAME:CDT
DTSTART:20260308T080000
END:DAYLIGHT
BEGIN:STANDARD
TZOFFSETFROM:-0500
TZOFFSETTO:-0600
TZNAME:CST
DTSTART:20261101T070000
END:STANDARD
END:VTIMEZONE
BEGIN:VEVENT
DTSTART;TZID=America/Chicago:20250718T180000
DTEND;TZID=America/Chicago:20250718T180000
DTSTAMP:20260422T064956
CREATED:20250714T203941Z
LAST-MODIFIED:20250714T203954Z
UID:4462-1752861600-1752861600@visitharlingentexas.com
SUMMARY:Movie Night: Little Giants
DESCRIPTION:
URL:https://visitharlingentexas.com/event/movie-night-little-giants/
LOCATION:Lon C. Hill Park\, 1217 Fair Park Blvd\, Harlingen\, TX\, 78550\, United States
ATTACH;FMTTYPE=image/jpeg:https://visitharlingentexas.com/wp-content/uploads/2025/07/FridayNightMovie.jpg
END:VEVENT
BEGIN:VEVENT
DTSTART;TZID=America/Chicago:20250718T193000
DTEND;TZID=America/Chicago:20250718T193000
DTSTAMP:20260422T064956
CREATED:20250715T152718Z
LAST-MODIFIED:20250715T152718Z
UID:4484-1752867000-1752867000@visitharlingentexas.com
SUMMARY:Harlingen Comm. Theatre Presents: In The Heights
DESCRIPTION:
URL:https://visitharlingentexas.com/event/harlingen-comm-theatre-presents-in-the-heights/
LOCATION:1209 Fair Park Blvd\, 1209 Fair Park Blvd\, Harlingen\, TX\, 78550\, United States
ATTACH;FMTTYPE=image/jpeg:https://visitharlingentexas.com/wp-content/uploads/2025/07/IntheHeights.jpg
END:VEVENT
BEGIN:VEVENT
DTSTART;TZID=America/Chicago:20250719T190000
DTEND;TZID=America/Chicago:20250719T220000
DTSTAMP:20260422T064956
CREATED:20250703T152746Z
LAST-MODIFIED:20250715T142513Z
UID:4385-1752951600-1752962400@visitharlingentexas.com
SUMMARY:Downtown at Sundown
DESCRIPTION:
URL:https://visitharlingentexas.com/event/downtown-at-sundown-5/
LOCATION:Downtown Harlingen\, W. Jackson St.\, Harlingen\, TX\, 78550
ATTACH;FMTTYPE=image/jpeg:https://visitharlingentexas.com/wp-content/uploads/2025/07/Downtown-atSundown.jpg
GEO:26.1927443;-97.7038548
X-APPLE-STRUCTURED-LOCATION;VALUE=URI;X-ADDRESS=Downtown Harlingen W. Jackson St. Harlingen TX 78550;X-APPLE-RADIUS=500;X-TITLE=W. Jackson St.:geo:-97.7038548,26.1927443
END:VEVENT
BEGIN:VEVENT
DTSTART;TZID=America/Chicago:20250719T193000
DTEND;TZID=America/Chicago:20250719T193000
DTSTAMP:20260422T064956
CREATED:20250715T144855Z
LAST-MODIFIED:20250715T144855Z
UID:4471-1752953400-1752953400@visitharlingentexas.com
SUMMARY:Red Crown Game- Fan Appreciation Night
DESCRIPTION:
URL:https://visitharlingentexas.com/event/red-crown-game-fan-appreciation-night/
LOCATION:1216 Fair Park Blvd\, 1216 Fair Park Blvd\, Harlingen\, TX\, 78550\, United States
ATTACH;FMTTYPE=image/jpeg:https://visitharlingentexas.com/wp-content/uploads/2025/07/FanAppreciationNight.jpg
GEO:26.1999337;-97.7082602
X-APPLE-STRUCTURED-LOCATION;VALUE=URI;X-ADDRESS=1216 Fair Park Blvd 1216 Fair Park Blvd Harlingen TX 78550 United States;X-APPLE-RADIUS=500;X-TITLE=1216 Fair Park Blvd:geo:-97.7082602,26.1999337
END:VEVENT
BEGIN:VEVENT
DTSTART;TZID=America/Chicago:20250719T193000
DTEND;TZID=America/Chicago:20250719T193000
DTSTAMP:20260422T064956
CREATED:20250715T152804Z
LAST-MODIFIED:20250715T152804Z
UID:4487-1752953400-1752953400@visitharlingentexas.com
SUMMARY:Harlingen Comm. Theatre Presents: In The Heights
DESCRIPTION:
URL:https://visitharlingentexas.com/event/harlingen-comm-theatre-presents-in-the-heights-2/
LOCATION:1209 Fair Park Blvd\, 1209 Fair Park Blvd\, Harlingen\, TX\, 78550\, United States
ATTACH;FMTTYPE=image/jpeg:https://visitharlingentexas.com/wp-content/uploads/2025/07/IntheHeights.jpg
END:VEVENT
BEGIN:VEVENT
DTSTART;TZID=America/Chicago:20250720T143000
DTEND;TZID=America/Chicago:20250720T143000
DTSTAMP:20260422T064956
CREATED:20250715T152842Z
LAST-MODIFIED:20250715T152950Z
UID:4488-1753021800-1753021800@visitharlingentexas.com
SUMMARY:Harlingen Comm. Theatre Presents: In The Heights
DESCRIPTION:
URL:https://visitharlingentexas.com/event/harlingen-comm-theatre-presents-in-the-heights-3/
LOCATION:1209 Fair Park Blvd\, 1209 Fair Park Blvd\, Harlingen\, TX\, 78550\, United States
ATTACH;FMTTYPE=image/jpeg:https://visitharlingentexas.com/wp-content/uploads/2025/07/IntheHeights.jpg
END:VEVENT
BEGIN:VEVENT
DTSTART;TZID=America/Chicago:20250721T113000
DTEND;TZID=America/Chicago:20250721T113000
DTSTAMP:20260422T064956
CREATED:20250714T194455Z
LAST-MODIFIED:20250714T194455Z
UID:4424-1753097400-1753097400@visitharlingentexas.com
SUMMARY:Crafty Creature (4-8 Yrs Old)
DESCRIPTION:Project: Snake Finger Puppet\nLocation: Auditorium\nAges: 4 -8 Years Old
URL:https://visitharlingentexas.com/event/crafty-creature-4-8-yrs-old/
LOCATION:Harlingen Public Library\, 410 76 Dr.\, Harlingen\, TX\, 78550\, United States
ATTACH;FMTTYPE=image/png:https://visitharlingentexas.com/wp-content/uploads/2025/07/HPL.png
GEO:26.1969692;-97.688982
X-APPLE-STRUCTURED-LOCATION;VALUE=URI;X-ADDRESS=Harlingen Public Library 410 76 Dr. Harlingen TX 78550 United States;X-APPLE-RADIUS=500;X-TITLE=410 76 Dr.:geo:-97.688982,26.1969692
END:VEVENT
BEGIN:VEVENT
DTSTART;TZID=America/Chicago:20250721T133000
DTEND;TZID=America/Chicago:20250721T133000
DTSTAMP:20260422T064956
CREATED:20250714T194605Z
LAST-MODIFIED:20250714T194605Z
UID:4425-1753104600-1753104600@visitharlingentexas.com
SUMMARY:TAG Meeting (Teens)
DESCRIPTION:Location: Teen Room\nAge: Teens
URL:https://visitharlingentexas.com/event/tag-meeting-teens/
LOCATION:Harlingen Public Library\, 410 76 Dr.\, Harlingen\, TX\, 78550\, United States
ATTACH;FMTTYPE=image/png:https://visitharlingentexas.com/wp-content/uploads/2025/07/HPL.png
GEO:26.1969692;-97.688982
X-APPLE-STRUCTURED-LOCATION;VALUE=URI;X-ADDRESS=Harlingen Public Library 410 76 Dr. Harlingen TX 78550 United States;X-APPLE-RADIUS=500;X-TITLE=410 76 Dr.:geo:-97.688982,26.1969692
END:VEVENT
BEGIN:VEVENT
DTSTART;TZID=America/Chicago:20250721T140000
DTEND;TZID=America/Chicago:20250721T160000
DTSTAMP:20260422T064956
CREATED:20250714T194752Z
LAST-MODIFIED:20250714T194752Z
UID:4426-1753106400-1753113600@visitharlingentexas.com
SUMMARY:Teen Volunteer Day
DESCRIPTION:Location: Teen Room\nAge: Teens\n*Must be registered for TAG*
URL:https://visitharlingentexas.com/event/teen-volunteer-day-2/
LOCATION:Harlingen Public Library\, 410 76 Dr.\, Harlingen\, TX\, 78550\, United States
ATTACH;FMTTYPE=image/png:https://visitharlingentexas.com/wp-content/uploads/2025/07/HPL.png
GEO:26.1969692;-97.688982
X-APPLE-STRUCTURED-LOCATION;VALUE=URI;X-ADDRESS=Harlingen Public Library 410 76 Dr. Harlingen TX 78550 United States;X-APPLE-RADIUS=500;X-TITLE=410 76 Dr.:geo:-97.688982,26.1969692
END:VEVENT
BEGIN:VEVENT
DTSTART;TZID=America/Chicago:20250722T100000
DTEND;TZID=America/Chicago:20250722T140000
DTSTAMP:20260422T064956
CREATED:20250714T202841Z
LAST-MODIFIED:20250714T202841Z
UID:4455-1753178400-1753192800@visitharlingentexas.com
SUMMARY:Stitching Friends
DESCRIPTION:Location: General\nAge: Adults
URL:https://visitharlingentexas.com/event/stitching-friends-2/
LOCATION:Harlingen Public Library\, 410 76 Dr.\, Harlingen\, TX\, 78550\, United States
ATTACH;FMTTYPE=image/png:https://visitharlingentexas.com/wp-content/uploads/2025/07/HPL.png
GEO:26.1969692;-97.688982
X-APPLE-STRUCTURED-LOCATION;VALUE=URI;X-ADDRESS=Harlingen Public Library 410 76 Dr. Harlingen TX 78550 United States;X-APPLE-RADIUS=500;X-TITLE=410 76 Dr.:geo:-97.688982,26.1969692
END:VEVENT
BEGIN:VEVENT
DTSTART;TZID=America/Chicago:20250722T103000
DTEND;TZID=America/Chicago:20250722T110000
DTSTAMP:20260422T064956
CREATED:20250714T200503Z
LAST-MODIFIED:20250714T200503Z
UID:4439-1753180200-1753182000@visitharlingentexas.com
SUMMARY:Summer Story Time
DESCRIPTION:Location: Auditorium\nAge: Children
URL:https://visitharlingentexas.com/event/summer-story-time/
LOCATION:Harlingen Public Library\, 410 76 Dr.\, Harlingen\, TX\, 78550\, United States
ATTACH;FMTTYPE=image/png:https://visitharlingentexas.com/wp-content/uploads/2025/07/HPL.png
GEO:26.1969692;-97.688982
X-APPLE-STRUCTURED-LOCATION;VALUE=URI;X-ADDRESS=Harlingen Public Library 410 76 Dr. Harlingen TX 78550 United States;X-APPLE-RADIUS=500;X-TITLE=410 76 Dr.:geo:-97.688982,26.1969692
END:VEVENT
BEGIN:VEVENT
DTSTART;TZID=America/Chicago:20250722T140000
DTEND;TZID=America/Chicago:20250722T160000
DTSTAMP:20260422T064956
CREATED:20250714T194841Z
LAST-MODIFIED:20250714T194841Z
UID:4427-1753192800-1753200000@visitharlingentexas.com
SUMMARY:Teen Volunteer Day
DESCRIPTION:Location: Teen Room\nAge: Teens\n*Must be registered for TAG*
URL:https://visitharlingentexas.com/event/teen-volunteer-day-3/
LOCATION:Harlingen Public Library\, 410 76 Dr.\, Harlingen\, TX\, 78550\, United States
ATTACH;FMTTYPE=image/png:https://visitharlingentexas.com/wp-content/uploads/2025/07/HPL.png
GEO:26.1969692;-97.688982
X-APPLE-STRUCTURED-LOCATION;VALUE=URI;X-ADDRESS=Harlingen Public Library 410 76 Dr. Harlingen TX 78550 United States;X-APPLE-RADIUS=500;X-TITLE=410 76 Dr.:geo:-97.688982,26.1969692
END:VEVENT
BEGIN:VEVENT
DTSTART;TZID=America/Chicago:20250722T140000
DTEND;TZID=America/Chicago:20250722T160000
DTSTAMP:20260422T064956
CREATED:20250714T195341Z
LAST-MODIFIED:20250714T195341Z
UID:4432-1753192800-1753200000@visitharlingentexas.com
SUMMARY:Imagination Ignite: Build a Catapult + Movie
DESCRIPTION:Location: Auditorium\nAge: Mixed Ages
URL:https://visitharlingentexas.com/event/imagination-ignite-build-a-catapult-movie/
LOCATION:Harlingen Public Library\, 410 76 Dr.\, Harlingen\, TX\, 78550\, United States
ATTACH;FMTTYPE=image/png:https://visitharlingentexas.com/wp-content/uploads/2025/07/HPL.png
GEO:26.1969692;-97.688982
X-APPLE-STRUCTURED-LOCATION;VALUE=URI;X-ADDRESS=Harlingen Public Library 410 76 Dr. Harlingen TX 78550 United States;X-APPLE-RADIUS=500;X-TITLE=410 76 Dr.:geo:-97.688982,26.1969692
END:VEVENT
BEGIN:VEVENT
DTSTART;TZID=America/Chicago:20250723T080000
DTEND;TZID=America/Chicago:20250723T080000
DTSTAMP:20260422T064956
CREATED:20250715T152335Z
LAST-MODIFIED:20250715T152335Z
UID:4478-1753257600-1753257600@visitharlingentexas.com
SUMMARY:Coffee with the Mayor
DESCRIPTION:
URL:https://visitharlingentexas.com/event/coffee-with-the-mayor/
LOCATION:Richard’s Mexican-American Grill\, 1116 S. Commerce St\, Harlingen\, TX\, 78550\, United States
ATTACH;FMTTYPE=image/jpeg:https://visitharlingentexas.com/wp-content/uploads/2025/07/Coffeewiththemayor.jpg
END:VEVENT
BEGIN:VEVENT
DTSTART;TZID=America/Chicago:20250723T100000
DTEND;TZID=America/Chicago:20250723T120000
DTSTAMP:20260422T064956
CREATED:20250714T200753Z
LAST-MODIFIED:20250714T200753Z
UID:4440-1753264800-1753272000@visitharlingentexas.com
SUMMARY:Knifty Knitters
DESCRIPTION:Location: General\nAge: Adults
URL:https://visitharlingentexas.com/event/knifty-knitters-4/
LOCATION:Harlingen Public Library\, 410 76 Dr.\, Harlingen\, TX\, 78550\, United States
ATTACH;FMTTYPE=image/png:https://visitharlingentexas.com/wp-content/uploads/2025/07/HPL.png
GEO:26.1969692;-97.688982
X-APPLE-STRUCTURED-LOCATION;VALUE=URI;X-ADDRESS=Harlingen Public Library 410 76 Dr. Harlingen TX 78550 United States;X-APPLE-RADIUS=500;X-TITLE=410 76 Dr.:geo:-97.688982,26.1969692
END:VEVENT
BEGIN:VEVENT
DTSTART;TZID=America/Chicago:20250723T103000
DTEND;TZID=America/Chicago:20250723T113000
DTSTAMP:20260422T064956
CREATED:20250714T201049Z
LAST-MODIFIED:20250714T201049Z
UID:4442-1753266600-1753270200@visitharlingentexas.com
SUMMARY:Cooking with Chef Meaghan (5-8yrs)
DESCRIPTION:Location: Auditorium\nAge: 5-8 Years Old\n*Registration Required*
URL:https://visitharlingentexas.com/event/cooking-with-chef-meaghan-5-8yrs/
LOCATION:Harlingen Public Library\, 410 76 Dr.\, Harlingen\, TX\, 78550\, United States
ATTACH;FMTTYPE=image/png:https://visitharlingentexas.com/wp-content/uploads/2025/07/HPL.png
GEO:26.1969692;-97.688982
X-APPLE-STRUCTURED-LOCATION;VALUE=URI;X-ADDRESS=Harlingen Public Library 410 76 Dr. Harlingen TX 78550 United States;X-APPLE-RADIUS=500;X-TITLE=410 76 Dr.:geo:-97.688982,26.1969692
END:VEVENT
BEGIN:VEVENT
DTSTART;TZID=America/Chicago:20250723T140000
DTEND;TZID=America/Chicago:20250723T140000
DTSTAMP:20260422T064956
CREATED:20250714T195438Z
LAST-MODIFIED:20250714T195642Z
UID:4433-1753279200-1753279200@visitharlingentexas.com
SUMMARY:Story Time with Easterseals
DESCRIPTION:Location: Auditorium\nAge: Mixed Ages
URL:https://visitharlingentexas.com/event/story-time-with-easterseals/
LOCATION:Harlingen Public Library\, 410 76 Dr.\, Harlingen\, TX\, 78550\, United States
ATTACH;FMTTYPE=image/png:https://visitharlingentexas.com/wp-content/uploads/2025/07/HPL.png
GEO:26.1969692;-97.688982
X-APPLE-STRUCTURED-LOCATION;VALUE=URI;X-ADDRESS=Harlingen Public Library 410 76 Dr. Harlingen TX 78550 United States;X-APPLE-RADIUS=500;X-TITLE=410 76 Dr.:geo:-97.688982,26.1969692
END:VEVENT
BEGIN:VEVENT
DTSTART;TZID=America/Chicago:20250723T140000
DTEND;TZID=America/Chicago:20250723T140000
DTSTAMP:20260422T064956
CREATED:20250714T195750Z
LAST-MODIFIED:20250714T195750Z
UID:4434-1753279200-1753279200@visitharlingentexas.com
SUMMARY:Teen Resume Workshop (12+)
DESCRIPTION:Location: Teen Room\nAge: 12 + Years Old
URL:https://visitharlingentexas.com/event/teen-resume-workshop-12/
LOCATION:Harlingen Public Library\, 410 76 Dr.\, Harlingen\, TX\, 78550\, United States
ATTACH;FMTTYPE=image/png:https://visitharlingentexas.com/wp-content/uploads/2025/07/HPL.png
GEO:26.1969692;-97.688982
X-APPLE-STRUCTURED-LOCATION;VALUE=URI;X-ADDRESS=Harlingen Public Library 410 76 Dr. Harlingen TX 78550 United States;X-APPLE-RADIUS=500;X-TITLE=410 76 Dr.:geo:-97.688982,26.1969692
END:VEVENT
BEGIN:VEVENT
DTSTART;TZID=America/Chicago:20250723T183000
DTEND;TZID=America/Chicago:20250723T183000
DTSTAMP:20260422T064956
CREATED:20250714T201210Z
LAST-MODIFIED:20250714T201210Z
UID:4443-1753295400-1753295400@visitharlingentexas.com
SUMMARY:PJ Story Time
DESCRIPTION:Location: Children’s Are\nAge: Children
URL:https://visitharlingentexas.com/event/pj-story-time/
LOCATION:Harlingen Public Library\, 410 76 Dr.\, Harlingen\, TX\, 78550\, United States
ATTACH;FMTTYPE=image/png:https://visitharlingentexas.com/wp-content/uploads/2025/07/HPL.png
GEO:26.1969692;-97.688982
X-APPLE-STRUCTURED-LOCATION;VALUE=URI;X-ADDRESS=Harlingen Public Library 410 76 Dr. Harlingen TX 78550 United States;X-APPLE-RADIUS=500;X-TITLE=410 76 Dr.:geo:-97.688982,26.1969692
END:VEVENT
BEGIN:VEVENT
DTSTART;TZID=America/Chicago:20250723T183000
DTEND;TZID=America/Chicago:20250723T193000
DTSTAMP:20260422T064956
CREATED:20250714T200928Z
LAST-MODIFIED:20250714T200928Z
UID:4441-1753295400-1753299000@visitharlingentexas.com
SUMMARY:Maximizing Social Security
DESCRIPTION:Location: Auditorium\nAge: Adults
URL:https://visitharlingentexas.com/event/maximizing-social-security/
LOCATION:Harlingen Public Library\, 410 76 Dr.\, Harlingen\, TX\, 78550\, United States
ATTACH;FMTTYPE=image/png:https://visitharlingentexas.com/wp-content/uploads/2025/07/HPL.png
GEO:26.1969692;-97.688982
X-APPLE-STRUCTURED-LOCATION;VALUE=URI;X-ADDRESS=Harlingen Public Library 410 76 Dr. Harlingen TX 78550 United States;X-APPLE-RADIUS=500;X-TITLE=410 76 Dr.:geo:-97.688982,26.1969692
END:VEVENT
BEGIN:VEVENT
DTSTART;TZID=America/Chicago:20250724T140000
DTEND;TZID=America/Chicago:20250724T140000
DTSTAMP:20260422T064956
CREATED:20250714T195904Z
LAST-MODIFIED:20250714T195904Z
UID:4435-1753365600-1753365600@visitharlingentexas.com
SUMMARY:Dance & Music
DESCRIPTION:Presenter: Nora Estrada\nLocation: Auditorium\nAge: Mixed Ages
URL:https://visitharlingentexas.com/event/dance-music/
LOCATION:Harlingen Public Library\, 410 76 Dr.\, Harlingen\, TX\, 78550\, United States
ATTACH;FMTTYPE=image/png:https://visitharlingentexas.com/wp-content/uploads/2025/07/HPL.png
GEO:26.1969692;-97.688982
X-APPLE-STRUCTURED-LOCATION;VALUE=URI;X-ADDRESS=Harlingen Public Library 410 76 Dr. Harlingen TX 78550 United States;X-APPLE-RADIUS=500;X-TITLE=410 76 Dr.:geo:-97.688982,26.1969692
END:VEVENT
BEGIN:VEVENT
DTSTART;TZID=America/Chicago:20250724T140000
DTEND;TZID=America/Chicago:20250724T160000
DTSTAMP:20260422T064956
CREATED:20250714T194936Z
LAST-MODIFIED:20250714T194936Z
UID:4428-1753365600-1753372800@visitharlingentexas.com
SUMMARY:Teen Volunteer Day
DESCRIPTION:Location: Teen Room\nAge: Teens\n*Must be registered for TAG*
URL:https://visitharlingentexas.com/event/teen-volunteer-day-4/
LOCATION:Harlingen Public Library\, 410 76 Dr.\, Harlingen\, TX\, 78550\, United States
ATTACH;FMTTYPE=image/png:https://visitharlingentexas.com/wp-content/uploads/2025/07/HPL.png
GEO:26.1969692;-97.688982
X-APPLE-STRUCTURED-LOCATION;VALUE=URI;X-ADDRESS=Harlingen Public Library 410 76 Dr. Harlingen TX 78550 United States;X-APPLE-RADIUS=500;X-TITLE=410 76 Dr.:geo:-97.688982,26.1969692
END:VEVENT
BEGIN:VEVENT
DTSTART;TZID=America/Chicago:20250724T173000
DTEND;TZID=America/Chicago:20250724T173000
DTSTAMP:20260422T064956
CREATED:20250714T201323Z
LAST-MODIFIED:20250714T201323Z
UID:4444-1753378200-1753378200@visitharlingentexas.com
SUMMARY:Masterpiece makers (9-12Yrs)
DESCRIPTION:Britta Art\nLocation: Children’s Area\nAge: 9-12 Years Old
URL:https://visitharlingentexas.com/event/masterpiece-makers-9-12yrs/
LOCATION:Harlingen Public Library\, 410 76 Dr.\, Harlingen\, TX\, 78550\, United States
ATTACH;FMTTYPE=image/png:https://visitharlingentexas.com/wp-content/uploads/2025/07/HPL.png
GEO:26.1969692;-97.688982
X-APPLE-STRUCTURED-LOCATION;VALUE=URI;X-ADDRESS=Harlingen Public Library 410 76 Dr. Harlingen TX 78550 United States;X-APPLE-RADIUS=500;X-TITLE=410 76 Dr.:geo:-97.688982,26.1969692
END:VEVENT
BEGIN:VEVENT
DTSTART;TZID=America/Chicago:20250725T103000
DTEND;TZID=America/Chicago:20250725T103000
DTSTAMP:20260422T064956
CREATED:20250714T200010Z
LAST-MODIFIED:20250714T200010Z
UID:4436-1753439400-1753439400@visitharlingentexas.com
SUMMARY:Community Project: Arts for Little Hearts
DESCRIPTION:Location: Auditorium\nAge: Mixed Ages
URL:https://visitharlingentexas.com/event/community-project-arts-for-little-hearts/
LOCATION:Harlingen Public Library\, 410 76 Dr.\, Harlingen\, TX\, 78550\, United States
ATTACH;FMTTYPE=image/png:https://visitharlingentexas.com/wp-content/uploads/2025/07/HPL.png
GEO:26.1969692;-97.688982
X-APPLE-STRUCTURED-LOCATION;VALUE=URI;X-ADDRESS=Harlingen Public Library 410 76 Dr. Harlingen TX 78550 United States;X-APPLE-RADIUS=500;X-TITLE=410 76 Dr.:geo:-97.688982,26.1969692
END:VEVENT
BEGIN:VEVENT
DTSTART;TZID=America/Chicago:20250725T140000
DTEND;TZID=America/Chicago:20250725T150000
DTSTAMP:20260422T064956
CREATED:20250714T201426Z
LAST-MODIFIED:20250714T201426Z
UID:4445-1753452000-1753455600@visitharlingentexas.com
SUMMARY:Friday Crafternoon: Cupcake Liner Parrot
DESCRIPTION:Location: Auditorium\nAge: Children
URL:https://visitharlingentexas.com/event/friday-crafternoon-cupcake-liner-parrot/
LOCATION:Harlingen Public Library\, 410 76 Dr.\, Harlingen\, TX\, 78550\, United States
ATTACH;FMTTYPE=image/png:https://visitharlingentexas.com/wp-content/uploads/2025/07/HPL.png
GEO:26.1969692;-97.688982
X-APPLE-STRUCTURED-LOCATION;VALUE=URI;X-ADDRESS=Harlingen Public Library 410 76 Dr. Harlingen TX 78550 United States;X-APPLE-RADIUS=500;X-TITLE=410 76 Dr.:geo:-97.688982,26.1969692
END:VEVENT
BEGIN:VEVENT
DTSTART;TZID=America/Chicago:20250725T140000
DTEND;TZID=America/Chicago:20250725T160000
DTSTAMP:20260422T064956
CREATED:20250714T195046Z
LAST-MODIFIED:20250714T195046Z
UID:4429-1753452000-1753459200@visitharlingentexas.com
SUMMARY:Teen Volunteer Day
DESCRIPTION:Location: Teen Room\nAge: Teens\n*Must be registered for TAG*
URL:https://visitharlingentexas.com/event/teen-volunteer-day-5/
LOCATION:Harlingen Public Library\, 410 76 Dr.\, Harlingen\, TX\, 78550\, United States
ATTACH;FMTTYPE=image/png:https://visitharlingentexas.com/wp-content/uploads/2025/07/HPL.png
GEO:26.1969692;-97.688982
X-APPLE-STRUCTURED-LOCATION;VALUE=URI;X-ADDRESS=Harlingen Public Library 410 76 Dr. Harlingen TX 78550 United States;X-APPLE-RADIUS=500;X-TITLE=410 76 Dr.:geo:-97.688982,26.1969692
END:VEVENT
BEGIN:VEVENT
DTSTART;TZID=America/Chicago:20250726T120000
DTEND;TZID=America/Chicago:20250726T140000
DTSTAMP:20260422T064956
CREATED:20250714T202352Z
LAST-MODIFIED:20250714T202352Z
UID:4452-1753531200-1753538400@visitharlingentexas.com
SUMMARY:Chess Club
DESCRIPTION:Location: General\nAge: Adults
URL:https://visitharlingentexas.com/event/chess-club-3/
LOCATION:Harlingen Public Library\, 410 76 Dr.\, Harlingen\, TX\, 78550\, United States
ATTACH;FMTTYPE=image/png:https://visitharlingentexas.com/wp-content/uploads/2025/07/HPL.png
GEO:26.1969692;-97.688982
X-APPLE-STRUCTURED-LOCATION;VALUE=URI;X-ADDRESS=Harlingen Public Library 410 76 Dr. Harlingen TX 78550 United States;X-APPLE-RADIUS=500;X-TITLE=410 76 Dr.:geo:-97.688982,26.1969692
END:VEVENT
BEGIN:VEVENT
DTSTART;TZID=America/Chicago:20250726T183000
DTEND;TZID=America/Chicago:20250726T220000
DTSTAMP:20260422T064956
CREATED:20250715T152147Z
LAST-MODIFIED:20250715T152147Z
UID:4475-1753554600-1753567200@visitharlingentexas.com
SUMMARY:STX Summer Blanket Fest: Picnic Pop Up
DESCRIPTION:
URL:https://visitharlingentexas.com/event/stx-summer-blanket-fest-picnic-pop-up/
LOCATION:1216 Fair Park Blvd\, 1216 Fair Park Blvd\, Harlingen\, TX\, 78550\, United States
ATTACH;FMTTYPE=image/jpeg:https://visitharlingentexas.com/wp-content/uploads/2025/07/STXPicnicPopUp.jpg
GEO:26.1999337;-97.7082602
X-APPLE-STRUCTURED-LOCATION;VALUE=URI;X-ADDRESS=1216 Fair Park Blvd 1216 Fair Park Blvd Harlingen TX 78550 United States;X-APPLE-RADIUS=500;X-TITLE=1216 Fair Park Blvd:geo:-97.7082602,26.1999337
END:VEVENT
BEGIN:VEVENT
DTSTART;TZID=America/Chicago:20250728T113000
DTEND;TZID=America/Chicago:20250728T123000
DTSTAMP:20260422T064956
CREATED:20250714T201545Z
LAST-MODIFIED:20250714T201545Z
UID:4446-1753702200-1753705800@visitharlingentexas.com
SUMMARY:Crafty Creatures (Age 4-8)
DESCRIPTION:Paper Roll Frida Khalo\nLocation: Auditorium\nAge: 4-8 Years Old
URL:https://visitharlingentexas.com/event/crafty-creatures-age-4-8/
LOCATION:Harlingen Public Library\, 410 76 Dr.\, Harlingen\, TX\, 78550\, United States
ATTACH;FMTTYPE=image/png:https://visitharlingentexas.com/wp-content/uploads/2025/07/HPL.png
GEO:26.1969692;-97.688982
X-APPLE-STRUCTURED-LOCATION;VALUE=URI;X-ADDRESS=Harlingen Public Library 410 76 Dr. Harlingen TX 78550 United States;X-APPLE-RADIUS=500;X-TITLE=410 76 Dr.:geo:-97.688982,26.1969692
END:VEVENT
BEGIN:VEVENT
DTSTART;TZID=America/Chicago:20250728T140000
DTEND;TZID=America/Chicago:20250728T160000
DTSTAMP:20260422T064956
CREATED:20250714T195134Z
LAST-MODIFIED:20250714T195134Z
UID:4430-1753711200-1753718400@visitharlingentexas.com
SUMMARY:Teen Volunteer Day
DESCRIPTION:Location: Teen Room\nAge: Teens\n*Must be registered for TAG*
URL:https://visitharlingentexas.com/event/teen-volunteer-day-6/
LOCATION:Harlingen Public Library\, 410 76 Dr.\, Harlingen\, TX\, 78550\, United States
ATTACH;FMTTYPE=image/png:https://visitharlingentexas.com/wp-content/uploads/2025/07/HPL.png
GEO:26.1969692;-97.688982
X-APPLE-STRUCTURED-LOCATION;VALUE=URI;X-ADDRESS=Harlingen Public Library 410 76 Dr. Harlingen TX 78550 United States;X-APPLE-RADIUS=500;X-TITLE=410 76 Dr.:geo:-97.688982,26.1969692
END:VEVENT
END:VCALENDAR