BEGIN:VCALENDAR
VERSION:2.0
PRODID:-//Visit Harlingen, Texas - ECPv6.15.20//NONSGML v1.0//EN
CALSCALE:GREGORIAN
METHOD:PUBLISH
X-WR-CALNAME:Visit Harlingen, Texas
X-ORIGINAL-URL:https://visitharlingentexas.com
X-WR-CALDESC:Events for Visit Harlingen, Texas
REFRESH-INTERVAL;VALUE=DURATION:PT1H
X-Robots-Tag:noindex
X-PUBLISHED-TTL:PT1H
BEGIN:VTIMEZONE
TZID:America/Chicago
BEGIN:DAYLIGHT
TZOFFSETFROM:-0600
TZOFFSETTO:-0500
TZNAME:CDT
DTSTART:20250309T080000
END:DAYLIGHT
BEGIN:STANDARD
TZOFFSETFROM:-0500
TZOFFSETTO:-0600
TZNAME:CST
DTSTART:20251102T070000
END:STANDARD
BEGIN:DAYLIGHT
TZOFFSETFROM:-0600
TZOFFSETTO:-0500
TZNAME:CDT
DTSTART:20260308T080000
END:DAYLIGHT
BEGIN:STANDARD
TZOFFSETFROM:-0500
TZOFFSETTO:-0600
TZNAME:CST
DTSTART:20261101T070000
END:STANDARD
BEGIN:DAYLIGHT
TZOFFSETFROM:-0600
TZOFFSETTO:-0500
TZNAME:CDT
DTSTART:20270314T080000
END:DAYLIGHT
BEGIN:STANDARD
TZOFFSETFROM:-0500
TZOFFSETTO:-0600
TZNAME:CST
DTSTART:20271107T070000
END:STANDARD
END:VTIMEZONE
BEGIN:VEVENT
DTSTART;TZID=America/Chicago:20260203T103000
DTEND;TZID=America/Chicago:20260203T110000
DTSTAMP:20260423T104914
CREATED:20260126T231834Z
LAST-MODIFIED:20260126T231834Z
UID:4625-1770114600-1770116400@visitharlingentexas.com
SUMMARY:Story Time
DESCRIPTION:
URL:https://visitharlingentexas.com/event/story-time/
LOCATION:Harlingen Public Library\, 410 76 Dr.\, Harlingen\, TX\, 78550\, United States
ATTACH;FMTTYPE=image/png:https://visitharlingentexas.com/wp-content/uploads/2025/07/HPL.png
GEO:26.1969692;-97.688982
X-APPLE-STRUCTURED-LOCATION;VALUE=URI;X-ADDRESS=Harlingen Public Library 410 76 Dr. Harlingen TX 78550 United States;X-APPLE-RADIUS=500;X-TITLE=410 76 Dr.:geo:-97.688982,26.1969692
END:VEVENT
BEGIN:VEVENT
DTSTART;TZID=America/Chicago:20260203T180000
DTEND;TZID=America/Chicago:20260203T193000
DTSTAMP:20260423T104914
CREATED:20260126T231935Z
LAST-MODIFIED:20260126T231935Z
UID:4626-1770141600-1770147000@visitharlingentexas.com
SUMMARY:Maximizing Social Security (Aud)
DESCRIPTION:
URL:https://visitharlingentexas.com/event/maximizing-social-security-aud/
LOCATION:Harlingen Public Library\, 410 76 Dr.\, Harlingen\, TX\, 78550\, United States
ATTACH;FMTTYPE=image/png:https://visitharlingentexas.com/wp-content/uploads/2025/07/HPL.png
GEO:26.1969692;-97.688982
X-APPLE-STRUCTURED-LOCATION;VALUE=URI;X-ADDRESS=Harlingen Public Library 410 76 Dr. Harlingen TX 78550 United States;X-APPLE-RADIUS=500;X-TITLE=410 76 Dr.:geo:-97.688982,26.1969692
END:VEVENT
BEGIN:VEVENT
DTSTART;TZID=America/Chicago:20260204T100000
DTEND;TZID=America/Chicago:20260204T130000
DTSTAMP:20260423T104914
CREATED:20260126T232020Z
LAST-MODIFIED:20260126T232020Z
UID:4627-1770199200-1770210000@visitharlingentexas.com
SUMMARY:Knifty Knitters (gen)
DESCRIPTION:
URL:https://visitharlingentexas.com/event/knifty-knitters-gen/
ATTACH;FMTTYPE=image/png:https://visitharlingentexas.com/wp-content/uploads/2025/07/HPL.png
END:VEVENT
BEGIN:VEVENT
DTSTART;TZID=America/Chicago:20260204T183000
DTEND;TZID=America/Chicago:20260204T190000
DTSTAMP:20260423T104914
CREATED:20260126T232112Z
LAST-MODIFIED:20260126T232112Z
UID:4628-1770229800-1770231600@visitharlingentexas.com
SUMMARY:PJ Story Time
DESCRIPTION:
URL:https://visitharlingentexas.com/event/pj-story-time-3/
LOCATION:Harlingen Public Library\, 410 76 Dr.\, Harlingen\, TX\, 78550\, United States
ATTACH;FMTTYPE=image/png:https://visitharlingentexas.com/wp-content/uploads/2025/07/HPL.png
GEO:26.1969692;-97.688982
X-APPLE-STRUCTURED-LOCATION;VALUE=URI;X-ADDRESS=Harlingen Public Library 410 76 Dr. Harlingen TX 78550 United States;X-APPLE-RADIUS=500;X-TITLE=410 76 Dr.:geo:-97.688982,26.1969692
END:VEVENT
BEGIN:VEVENT
DTSTART;TZID=America/Chicago:20260205T100000
DTEND;TZID=America/Chicago:20260205T110000
DTSTAMP:20260423T104914
CREATED:20260126T232438Z
LAST-MODIFIED:20260126T232438Z
UID:4629-1770285600-1770289200@visitharlingentexas.com
SUMMARY:Sunshine Book Club (Gen.)
DESCRIPTION:“No One Is Talking About This” By: Patricia Lockwood
URL:https://visitharlingentexas.com/event/sunshine-book-club-gen/
LOCATION:Harlingen Public Library\, 410 76 Dr.\, Harlingen\, TX\, 78550\, United States
ATTACH;FMTTYPE=image/png:https://visitharlingentexas.com/wp-content/uploads/2025/07/HPL.png
GEO:26.1969692;-97.688982
X-APPLE-STRUCTURED-LOCATION;VALUE=URI;X-ADDRESS=Harlingen Public Library 410 76 Dr. Harlingen TX 78550 United States;X-APPLE-RADIUS=500;X-TITLE=410 76 Dr.:geo:-97.688982,26.1969692
END:VEVENT
BEGIN:VEVENT
DTSTART;TZID=America/Chicago:20260205T103000
DTEND;TZID=America/Chicago:20260205T110000
DTSTAMP:20260423T104914
CREATED:20260126T232532Z
LAST-MODIFIED:20260126T232532Z
UID:4630-1770287400-1770289200@visitharlingentexas.com
SUMMARY:Toddler Music Time (Aud.)
DESCRIPTION:
URL:https://visitharlingentexas.com/event/toddler-music-time-aud/
LOCATION:Harlingen Public Library\, 410 76 Dr.\, Harlingen\, TX\, 78550\, United States
ATTACH;FMTTYPE=image/png:https://visitharlingentexas.com/wp-content/uploads/2025/07/HPL.png
GEO:26.1969692;-97.688982
X-APPLE-STRUCTURED-LOCATION;VALUE=URI;X-ADDRESS=Harlingen Public Library 410 76 Dr. Harlingen TX 78550 United States;X-APPLE-RADIUS=500;X-TITLE=410 76 Dr.:geo:-97.688982,26.1969692
END:VEVENT
BEGIN:VEVENT
DTSTART;TZID=America/Chicago:20260206T150000
DTEND;TZID=America/Chicago:20260206T163000
DTSTAMP:20260423T104914
CREATED:20260126T232639Z
LAST-MODIFIED:20260126T232639Z
UID:4631-1770390000-1770395400@visitharlingentexas.com
SUMMARY:Friday Crafternoon: DIY Stamp (Courtyard)
DESCRIPTION:
URL:https://visitharlingentexas.com/event/friday-crafternoon-diy-stamp-courtyard/
LOCATION:Harlingen Public Library\, 410 76 Dr.\, Harlingen\, TX\, 78550\, United States
ATTACH;FMTTYPE=image/png:https://visitharlingentexas.com/wp-content/uploads/2025/07/HPL.png
GEO:26.1969692;-97.688982
X-APPLE-STRUCTURED-LOCATION;VALUE=URI;X-ADDRESS=Harlingen Public Library 410 76 Dr. Harlingen TX 78550 United States;X-APPLE-RADIUS=500;X-TITLE=410 76 Dr.:geo:-97.688982,26.1969692
END:VEVENT
BEGIN:VEVENT
DTSTART;TZID=America/Chicago:20260208T140000
DTEND;TZID=America/Chicago:20260208T163000
DTSTAMP:20260423T104914
CREATED:20260126T232744Z
LAST-MODIFIED:20260126T232744Z
UID:4632-1770559200-1770568200@visitharlingentexas.com
SUMMARY:Cameron County Historical Commission(Study Rm 1)
DESCRIPTION:
URL:https://visitharlingentexas.com/event/cameron-county-historical-commissionstudy-rm-1/
LOCATION:Harlingen Public Library\, 410 76 Dr.\, Harlingen\, TX\, 78550\, United States
ATTACH;FMTTYPE=image/png:https://visitharlingentexas.com/wp-content/uploads/2025/07/HPL.png
GEO:26.1969692;-97.688982
X-APPLE-STRUCTURED-LOCATION;VALUE=URI;X-ADDRESS=Harlingen Public Library 410 76 Dr. Harlingen TX 78550 United States;X-APPLE-RADIUS=500;X-TITLE=410 76 Dr.:geo:-97.688982,26.1969692
END:VEVENT
BEGIN:VEVENT
DTSTART;TZID=America/Chicago:20260209T110000
DTEND;TZID=America/Chicago:20260209T130000
DTSTAMP:20260423T104914
CREATED:20260126T232839Z
LAST-MODIFIED:20260126T232839Z
UID:4633-1770634800-1770642000@visitharlingentexas.com
SUMMARY:Valentine Tissue Craft (Gen.)
DESCRIPTION:
URL:https://visitharlingentexas.com/event/valentine-tissue-craft-gen/
LOCATION:Harlingen Public Library\, 410 76 Dr.\, Harlingen\, TX\, 78550\, United States
ATTACH;FMTTYPE=image/png:https://visitharlingentexas.com/wp-content/uploads/2025/07/HPL.png
GEO:26.1969692;-97.688982
X-APPLE-STRUCTURED-LOCATION;VALUE=URI;X-ADDRESS=Harlingen Public Library 410 76 Dr. Harlingen TX 78550 United States;X-APPLE-RADIUS=500;X-TITLE=410 76 Dr.:geo:-97.688982,26.1969692
END:VEVENT
BEGIN:VEVENT
DTSTART;TZID=America/Chicago:20260209T140000
DTEND;TZID=America/Chicago:20260209T160000
DTSTAMP:20260423T104914
CREATED:20260126T232944Z
LAST-MODIFIED:20260126T232944Z
UID:4634-1770645600-1770652800@visitharlingentexas.com
SUMMARY:Teen Relationship Awareness (Teen Rm)
DESCRIPTION:Presenter: PCI
URL:https://visitharlingentexas.com/event/teen-relationship-awareness-teen-rm/
LOCATION:Harlingen Public Library\, 410 76 Dr.\, Harlingen\, TX\, 78550\, United States
ATTACH;FMTTYPE=image/png:https://visitharlingentexas.com/wp-content/uploads/2025/07/HPL.png
GEO:26.1969692;-97.688982
X-APPLE-STRUCTURED-LOCATION;VALUE=URI;X-ADDRESS=Harlingen Public Library 410 76 Dr. Harlingen TX 78550 United States;X-APPLE-RADIUS=500;X-TITLE=410 76 Dr.:geo:-97.688982,26.1969692
END:VEVENT
BEGIN:VEVENT
DTSTART;TZID=America/Chicago:20260209T173000
DTEND;TZID=America/Chicago:20260209T194500
DTSTAMP:20260423T104914
CREATED:20260126T233058Z
LAST-MODIFIED:20260126T233058Z
UID:4635-1770658200-1770666300@visitharlingentexas.com
SUMMARY:Frontera Quilt Guild (Aud)
DESCRIPTION:
URL:https://visitharlingentexas.com/event/frontera-quilt-guild-aud/
LOCATION:Harlingen Public Library\, 410 76 Dr.\, Harlingen\, TX\, 78550\, United States
ATTACH;FMTTYPE=image/png:https://visitharlingentexas.com/wp-content/uploads/2025/07/HPL.png
GEO:26.1969692;-97.688982
X-APPLE-STRUCTURED-LOCATION;VALUE=URI;X-ADDRESS=Harlingen Public Library 410 76 Dr. Harlingen TX 78550 United States;X-APPLE-RADIUS=500;X-TITLE=410 76 Dr.:geo:-97.688982,26.1969692
END:VEVENT
BEGIN:VEVENT
DTSTART;TZID=America/Chicago:20260210T100000
DTEND;TZID=America/Chicago:20260210T140000
DTSTAMP:20260423T104914
CREATED:20260126T233248Z
LAST-MODIFIED:20260126T233248Z
UID:4636-1770717600-1770732000@visitharlingentexas.com
SUMMARY:Stitching Friends (Gen)
DESCRIPTION:
URL:https://visitharlingentexas.com/event/stitching-friends-gen-2/2026-02-10/
LOCATION:Harlingen Public Library\, 410 76 Dr.\, Harlingen\, TX\, 78550\, United States
ATTACH;FMTTYPE=image/png:https://visitharlingentexas.com/wp-content/uploads/2025/07/HPL.png
GEO:26.1969692;-97.688982
X-APPLE-STRUCTURED-LOCATION;VALUE=URI;X-ADDRESS=Harlingen Public Library 410 76 Dr. Harlingen TX 78550 United States;X-APPLE-RADIUS=500;X-TITLE=410 76 Dr.:geo:-97.688982,26.1969692
END:VEVENT
BEGIN:VEVENT
DTSTART;TZID=America/Chicago:20260210T103000
DTEND;TZID=America/Chicago:20260210T110000
DTSTAMP:20260423T104914
CREATED:20260126T233412Z
LAST-MODIFIED:20260126T233412Z
UID:4639-1770719400-1770721200@visitharlingentexas.com
SUMMARY:Story Time
DESCRIPTION:
URL:https://visitharlingentexas.com/event/story-time-2/2026-02-10/
LOCATION:Harlingen Public Library\, 410 76 Dr.\, Harlingen\, TX\, 78550\, United States
ATTACH;FMTTYPE=image/png:https://visitharlingentexas.com/wp-content/uploads/2025/07/HPL.png
GEO:26.1969692;-97.688982
X-APPLE-STRUCTURED-LOCATION;VALUE=URI;X-ADDRESS=Harlingen Public Library 410 76 Dr. Harlingen TX 78550 United States;X-APPLE-RADIUS=500;X-TITLE=410 76 Dr.:geo:-97.688982,26.1969692
END:VEVENT
BEGIN:VEVENT
DTSTART;TZID=America/Chicago:20260210T130000
DTEND;TZID=America/Chicago:20260210T150000
DTSTAMP:20260423T104914
CREATED:20260126T233516Z
LAST-MODIFIED:20260126T233516Z
UID:4642-1770728400-1770735600@visitharlingentexas.com
SUMMARY:Homeschool Social Hour (Aud)
DESCRIPTION:
URL:https://visitharlingentexas.com/event/homeschool-social-hour-aud/
LOCATION:Harlingen Public Library\, 410 76 Dr.\, Harlingen\, TX\, 78550\, United States
ATTACH;FMTTYPE=image/png:https://visitharlingentexas.com/wp-content/uploads/2025/07/HPL.png
GEO:26.1969692;-97.688982
X-APPLE-STRUCTURED-LOCATION;VALUE=URI;X-ADDRESS=Harlingen Public Library 410 76 Dr. Harlingen TX 78550 United States;X-APPLE-RADIUS=500;X-TITLE=410 76 Dr.:geo:-97.688982,26.1969692
END:VEVENT
BEGIN:VEVENT
DTSTART;TZID=America/Chicago:20260210T193000
DTEND;TZID=America/Chicago:20260210T193000
DTSTAMP:20260423T104914
CREATED:20250815T190808Z
LAST-MODIFIED:20250815T190808Z
UID:4528-1770751800-1770751800@visitharlingentexas.com
SUMMARY:CHRIS RUGGIERO: Teeange Dream & Magic Moments
DESCRIPTION:
URL:https://visitharlingentexas.com/event/chris-ruggiero-teeange-dream-magic-moments/
LOCATION:Christian Fellowship Church\, North Loop 499\, Harlingen\, Texas\, 78550\, United States
ATTACH;FMTTYPE=image/jpeg:https://visitharlingentexas.com/wp-content/uploads/2025/08/HarlingenConcertAssociation.jpg
GEO:26.222212;-97.6853716
X-APPLE-STRUCTURED-LOCATION;VALUE=URI;X-ADDRESS=Christian Fellowship Church North Loop 499 Harlingen Texas 78550 United States;X-APPLE-RADIUS=500;X-TITLE=North Loop 499:geo:-97.6853716,26.222212
END:VEVENT
BEGIN:VEVENT
DTSTART;TZID=America/Chicago:20260211T100000
DTEND;TZID=America/Chicago:20260211T130000
DTSTAMP:20260423T104914
CREATED:20260126T233707Z
LAST-MODIFIED:20260126T233707Z
UID:4643-1770804000-1770814800@visitharlingentexas.com
SUMMARY:Knifty Knitters (Gen.)
DESCRIPTION:
URL:https://visitharlingentexas.com/event/knifty-knitters-gen-2/2026-02-11/
LOCATION:Harlingen Public Library\, 410 76 Dr.\, Harlingen\, TX\, 78550\, United States
ATTACH;FMTTYPE=image/png:https://visitharlingentexas.com/wp-content/uploads/2025/07/HPL.png
GEO:26.1969692;-97.688982
X-APPLE-STRUCTURED-LOCATION;VALUE=URI;X-ADDRESS=Harlingen Public Library 410 76 Dr. Harlingen TX 78550 United States;X-APPLE-RADIUS=500;X-TITLE=410 76 Dr.:geo:-97.688982,26.1969692
END:VEVENT
BEGIN:VEVENT
DTSTART;TZID=America/Chicago:20260211T183000
DTEND;TZID=America/Chicago:20260211T190000
DTSTAMP:20260423T104914
CREATED:20260126T233818Z
LAST-MODIFIED:20260126T233818Z
UID:4647-1770834600-1770836400@visitharlingentexas.com
SUMMARY:PJ Story Time
DESCRIPTION:
URL:https://visitharlingentexas.com/event/pj-story-time-4/2026-02-11/
LOCATION:Harlingen Public Library\, 410 76 Dr.\, Harlingen\, TX\, 78550\, United States
ATTACH;FMTTYPE=image/png:https://visitharlingentexas.com/wp-content/uploads/2025/07/HPL.png
GEO:26.1969692;-97.688982
X-APPLE-STRUCTURED-LOCATION;VALUE=URI;X-ADDRESS=Harlingen Public Library 410 76 Dr. Harlingen TX 78550 United States;X-APPLE-RADIUS=500;X-TITLE=410 76 Dr.:geo:-97.688982,26.1969692
END:VEVENT
BEGIN:VEVENT
DTSTART;TZID=America/Chicago:20260212T103000
DTEND;TZID=America/Chicago:20260212T114500
DTSTAMP:20260423T104914
CREATED:20260126T233955Z
LAST-MODIFIED:20260126T233955Z
UID:4650-1770892200-1770896700@visitharlingentexas.com
SUMMARY:Parent Child Workshop (Aud)
DESCRIPTION:
URL:https://visitharlingentexas.com/event/parent-child-workshop-aud/2026-02-12/
LOCATION:Harlingen Public Library\, 410 76 Dr.\, Harlingen\, TX\, 78550\, United States
ATTACH;FMTTYPE=image/png:https://visitharlingentexas.com/wp-content/uploads/2025/07/HPL.png
GEO:26.1969692;-97.688982
X-APPLE-STRUCTURED-LOCATION;VALUE=URI;X-ADDRESS=Harlingen Public Library 410 76 Dr. Harlingen TX 78550 United States;X-APPLE-RADIUS=500;X-TITLE=410 76 Dr.:geo:-97.688982,26.1969692
END:VEVENT
BEGIN:VEVENT
DTSTART;TZID=America/Chicago:20260212T180000
DTEND;TZID=America/Chicago:20260212T194500
DTSTAMP:20260423T104914
CREATED:20260126T234104Z
LAST-MODIFIED:20260126T234104Z
UID:4653-1770919200-1770925500@visitharlingentexas.com
SUMMARY:Arroyo Colorado (Aud)
DESCRIPTION:
URL:https://visitharlingentexas.com/event/arroyo-colorado-aud/
LOCATION:Harlingen Public Library\, 410 76 Dr.\, Harlingen\, TX\, 78550\, United States
ATTACH;FMTTYPE=image/png:https://visitharlingentexas.com/wp-content/uploads/2025/07/HPL.png
GEO:26.1969692;-97.688982
X-APPLE-STRUCTURED-LOCATION;VALUE=URI;X-ADDRESS=Harlingen Public Library 410 76 Dr. Harlingen TX 78550 United States;X-APPLE-RADIUS=500;X-TITLE=410 76 Dr.:geo:-97.688982,26.1969692
END:VEVENT
BEGIN:VEVENT
DTSTART;TZID=America/Chicago:20260213T150000
DTEND;TZID=America/Chicago:20260213T163000
DTSTAMP:20260423T104914
CREATED:20260126T234156Z
LAST-MODIFIED:20260126T234156Z
UID:4654-1770994800-1771000200@visitharlingentexas.com
SUMMARY:Friday Crafternoon: Valentine Windsock
DESCRIPTION:
URL:https://visitharlingentexas.com/event/friday-crafternoon-valentine-windsock/
LOCATION:Harlingen Public Library\, 410 76 Dr.\, Harlingen\, TX\, 78550\, United States
ATTACH;FMTTYPE=image/png:https://visitharlingentexas.com/wp-content/uploads/2025/07/HPL.png
GEO:26.1969692;-97.688982
X-APPLE-STRUCTURED-LOCATION;VALUE=URI;X-ADDRESS=Harlingen Public Library 410 76 Dr. Harlingen TX 78550 United States;X-APPLE-RADIUS=500;X-TITLE=410 76 Dr.:geo:-97.688982,26.1969692
END:VEVENT
BEGIN:VEVENT
DTSTART;TZID=America/Chicago:20260216T170000
DTEND;TZID=America/Chicago:20260216T170000
DTSTAMP:20260423T104914
CREATED:20260126T234318Z
LAST-MODIFIED:20260126T234318Z
UID:4655-1771261200-1771261200@visitharlingentexas.com
SUMMARY:Teen Advisory Group Meeting (12+) Teen Rm
DESCRIPTION:Must Be Registered
URL:https://visitharlingentexas.com/event/teen-advisory-group-meeting-12-teen-rm/
LOCATION:Harlingen Public Library\, 410 76 Dr.\, Harlingen\, TX\, 78550\, United States
ATTACH;FMTTYPE=image/png:https://visitharlingentexas.com/wp-content/uploads/2025/07/HPL.png
GEO:26.1969692;-97.688982
X-APPLE-STRUCTURED-LOCATION;VALUE=URI;X-ADDRESS=Harlingen Public Library 410 76 Dr. Harlingen TX 78550 United States;X-APPLE-RADIUS=500;X-TITLE=410 76 Dr.:geo:-97.688982,26.1969692
END:VEVENT
BEGIN:VEVENT
DTSTART;TZID=America/Chicago:20260216T173000
DTEND;TZID=America/Chicago:20260216T193000
DTSTAMP:20260423T104914
CREATED:20260126T234551Z
LAST-MODIFIED:20260126T234551Z
UID:4656-1771263000-1771270200@visitharlingentexas.com
SUMMARY:Teen Craft Day 12+ (Courtyard)
DESCRIPTION:Tie Dye Tote Bag
URL:https://visitharlingentexas.com/event/teen-craft-day-12-courtyard/
LOCATION:Harlingen Public Library\, 410 76 Dr.\, Harlingen\, TX\, 78550\, United States
ATTACH;FMTTYPE=image/png:https://visitharlingentexas.com/wp-content/uploads/2025/07/HPL.png
GEO:26.1969692;-97.688982
X-APPLE-STRUCTURED-LOCATION;VALUE=URI;X-ADDRESS=Harlingen Public Library 410 76 Dr. Harlingen TX 78550 United States;X-APPLE-RADIUS=500;X-TITLE=410 76 Dr.:geo:-97.688982,26.1969692
END:VEVENT
BEGIN:VEVENT
DTSTART;TZID=America/Chicago:20260217T100000
DTEND;TZID=America/Chicago:20260217T140000
DTSTAMP:20260423T104914
CREATED:20260126T233248Z
LAST-MODIFIED:20260126T233248Z
UID:4637-1771322400-1771336800@visitharlingentexas.com
SUMMARY:Stitching Friends (Gen)
DESCRIPTION:
URL:https://visitharlingentexas.com/event/stitching-friends-gen-2/2026-02-17/
LOCATION:Harlingen Public Library\, 410 76 Dr.\, Harlingen\, TX\, 78550\, United States
ATTACH;FMTTYPE=image/png:https://visitharlingentexas.com/wp-content/uploads/2025/07/HPL.png
GEO:26.1969692;-97.688982
X-APPLE-STRUCTURED-LOCATION;VALUE=URI;X-ADDRESS=Harlingen Public Library 410 76 Dr. Harlingen TX 78550 United States;X-APPLE-RADIUS=500;X-TITLE=410 76 Dr.:geo:-97.688982,26.1969692
END:VEVENT
BEGIN:VEVENT
DTSTART;TZID=America/Chicago:20260217T103000
DTEND;TZID=America/Chicago:20260217T110000
DTSTAMP:20260423T104914
CREATED:20260126T233412Z
LAST-MODIFIED:20260126T233412Z
UID:4640-1771324200-1771326000@visitharlingentexas.com
SUMMARY:Story Time
DESCRIPTION:
URL:https://visitharlingentexas.com/event/story-time-2/2026-02-17/
LOCATION:Harlingen Public Library\, 410 76 Dr.\, Harlingen\, TX\, 78550\, United States
ATTACH;FMTTYPE=image/png:https://visitharlingentexas.com/wp-content/uploads/2025/07/HPL.png
GEO:26.1969692;-97.688982
X-APPLE-STRUCTURED-LOCATION;VALUE=URI;X-ADDRESS=Harlingen Public Library 410 76 Dr. Harlingen TX 78550 United States;X-APPLE-RADIUS=500;X-TITLE=410 76 Dr.:geo:-97.688982,26.1969692
END:VEVENT
BEGIN:VEVENT
DTSTART;TZID=America/Chicago:20260217T180000
DTEND;TZID=America/Chicago:20260217T194500
DTSTAMP:20260423T104914
CREATED:20260126T234645Z
LAST-MODIFIED:20260126T234645Z
UID:4657-1771351200-1771357500@visitharlingentexas.com
SUMMARY:Poetry Night (Aud.)
DESCRIPTION:
URL:https://visitharlingentexas.com/event/poetry-night-aud/
LOCATION:Harlingen Public Library\, 410 76 Dr.\, Harlingen\, TX\, 78550\, United States
ATTACH;FMTTYPE=image/png:https://visitharlingentexas.com/wp-content/uploads/2025/07/HPL.png
GEO:26.1969692;-97.688982
X-APPLE-STRUCTURED-LOCATION;VALUE=URI;X-ADDRESS=Harlingen Public Library 410 76 Dr. Harlingen TX 78550 United States;X-APPLE-RADIUS=500;X-TITLE=410 76 Dr.:geo:-97.688982,26.1969692
END:VEVENT
BEGIN:VEVENT
DTSTART;TZID=America/Chicago:20260218T100000
DTEND;TZID=America/Chicago:20260218T130000
DTSTAMP:20260423T104914
CREATED:20260126T233707Z
LAST-MODIFIED:20260126T233707Z
UID:4644-1771408800-1771419600@visitharlingentexas.com
SUMMARY:Knifty Knitters (Gen.)
DESCRIPTION:
URL:https://visitharlingentexas.com/event/knifty-knitters-gen-2/2026-02-18/
LOCATION:Harlingen Public Library\, 410 76 Dr.\, Harlingen\, TX\, 78550\, United States
ATTACH;FMTTYPE=image/png:https://visitharlingentexas.com/wp-content/uploads/2025/07/HPL.png
GEO:26.1969692;-97.688982
X-APPLE-STRUCTURED-LOCATION;VALUE=URI;X-ADDRESS=Harlingen Public Library 410 76 Dr. Harlingen TX 78550 United States;X-APPLE-RADIUS=500;X-TITLE=410 76 Dr.:geo:-97.688982,26.1969692
END:VEVENT
BEGIN:VEVENT
DTSTART;TZID=America/Chicago:20260218T183000
DTEND;TZID=America/Chicago:20260218T190000
DTSTAMP:20260423T104914
CREATED:20260126T233818Z
LAST-MODIFIED:20260126T233818Z
UID:4648-1771439400-1771441200@visitharlingentexas.com
SUMMARY:PJ Story Time
DESCRIPTION:
URL:https://visitharlingentexas.com/event/pj-story-time-4/2026-02-18/
LOCATION:Harlingen Public Library\, 410 76 Dr.\, Harlingen\, TX\, 78550\, United States
ATTACH;FMTTYPE=image/png:https://visitharlingentexas.com/wp-content/uploads/2025/07/HPL.png
GEO:26.1969692;-97.688982
X-APPLE-STRUCTURED-LOCATION;VALUE=URI;X-ADDRESS=Harlingen Public Library 410 76 Dr. Harlingen TX 78550 United States;X-APPLE-RADIUS=500;X-TITLE=410 76 Dr.:geo:-97.688982,26.1969692
END:VEVENT
BEGIN:VEVENT
DTSTART;TZID=America/Chicago:20260219T103000
DTEND;TZID=America/Chicago:20260219T114500
DTSTAMP:20260423T104914
CREATED:20260126T233955Z
LAST-MODIFIED:20260126T233955Z
UID:4651-1771497000-1771501500@visitharlingentexas.com
SUMMARY:Parent Child Workshop (Aud)
DESCRIPTION:
URL:https://visitharlingentexas.com/event/parent-child-workshop-aud/2026-02-19/
LOCATION:Harlingen Public Library\, 410 76 Dr.\, Harlingen\, TX\, 78550\, United States
ATTACH;FMTTYPE=image/png:https://visitharlingentexas.com/wp-content/uploads/2025/07/HPL.png
GEO:26.1969692;-97.688982
X-APPLE-STRUCTURED-LOCATION;VALUE=URI;X-ADDRESS=Harlingen Public Library 410 76 Dr. Harlingen TX 78550 United States;X-APPLE-RADIUS=500;X-TITLE=410 76 Dr.:geo:-97.688982,26.1969692
END:VEVENT
BEGIN:VEVENT
DTSTART;TZID=America/Chicago:20260220T150000
DTEND;TZID=America/Chicago:20260220T163000
DTSTAMP:20260423T104914
CREATED:20260126T234751Z
LAST-MODIFIED:20260126T234805Z
UID:4658-1771599600-1771605000@visitharlingentexas.com
SUMMARY:Friday Crafternoon: Pie Craft
DESCRIPTION:
URL:https://visitharlingentexas.com/event/friday-crafternoon-pie-craft/
LOCATION:Harlingen Public Library\, 410 76 Dr.\, Harlingen\, TX\, 78550\, United States
ATTACH;FMTTYPE=image/png:https://visitharlingentexas.com/wp-content/uploads/2025/07/HPL.png
GEO:26.1969692;-97.688982
X-APPLE-STRUCTURED-LOCATION;VALUE=URI;X-ADDRESS=Harlingen Public Library 410 76 Dr. Harlingen TX 78550 United States;X-APPLE-RADIUS=500;X-TITLE=410 76 Dr.:geo:-97.688982,26.1969692
END:VEVENT
BEGIN:VEVENT
DTSTART;TZID=America/Chicago:20260221T080000
DTEND;TZID=America/Chicago:20260221T080000
DTSTAMP:20260423T104914
CREATED:20260218T163318Z
LAST-MODIFIED:20260218T163318Z
UID:4680-1771660800-1771660800@visitharlingentexas.com
SUMMARY:4th Annual RGV 5K Fun Run & Walk
DESCRIPTION:
URL:https://visitharlingentexas.com/event/4th-annual-rgv-5k-fun-run-walk/
LOCATION:Harlingen Arroyo Park\, East New Hampshire Street\, Harlingen\, TX\, 78550\, United States
ATTACH;FMTTYPE=image/jpeg:https://visitharlingentexas.com/wp-content/uploads/2026/02/5kFunRunWalk.jpg
GEO:26.1717757;-97.684996
X-APPLE-STRUCTURED-LOCATION;VALUE=URI;X-ADDRESS=Harlingen Arroyo Park East New Hampshire Street Harlingen TX 78550 United States;X-APPLE-RADIUS=500;X-TITLE=East New Hampshire Street:geo:-97.684996,26.1717757
END:VEVENT
END:VCALENDAR