BEGIN:VCALENDAR
VERSION:2.0
PRODID:-//Visit Harlingen, Texas - ECPv6.15.20//NONSGML v1.0//EN
CALSCALE:GREGORIAN
METHOD:PUBLISH
X-ORIGINAL-URL:https://visitharlingentexas.com
X-WR-CALDESC:Events for Visit Harlingen, Texas
REFRESH-INTERVAL;VALUE=DURATION:PT1H
X-Robots-Tag:noindex
X-PUBLISHED-TTL:PT1H
BEGIN:VTIMEZONE
TZID:America/Chicago
BEGIN:DAYLIGHT
TZOFFSETFROM:-0600
TZOFFSETTO:-0500
TZNAME:CDT
DTSTART:20240310T080000
END:DAYLIGHT
BEGIN:STANDARD
TZOFFSETFROM:-0500
TZOFFSETTO:-0600
TZNAME:CST
DTSTART:20241103T070000
END:STANDARD
BEGIN:DAYLIGHT
TZOFFSETFROM:-0600
TZOFFSETTO:-0500
TZNAME:CDT
DTSTART:20250309T080000
END:DAYLIGHT
BEGIN:STANDARD
TZOFFSETFROM:-0500
TZOFFSETTO:-0600
TZNAME:CST
DTSTART:20251102T070000
END:STANDARD
BEGIN:DAYLIGHT
TZOFFSETFROM:-0600
TZOFFSETTO:-0500
TZNAME:CDT
DTSTART:20260308T080000
END:DAYLIGHT
BEGIN:STANDARD
TZOFFSETFROM:-0500
TZOFFSETTO:-0600
TZNAME:CST
DTSTART:20261101T070000
END:STANDARD
END:VTIMEZONE
BEGIN:VEVENT
DTSTART;TZID=America/Chicago:20251227T150000
DTEND;TZID=America/Chicago:20251227T163000
DTSTAMP:20260423T122237
CREATED:20250102T203803Z
LAST-MODIFIED:20250102T203803Z
UID:4078-1766847600-1766853000@visitharlingentexas.com
SUMMARY:Harlingen Farmers Market
DESCRIPTION:Live Music & Local Produce! Every Saturday from 3- 4:30pm
URL:https://visitharlingentexas.com/event/harlingen-farmers-market-5/2025-12-27/
LOCATION:2nd & Tyler Ave\, 2nd & Tyler Ave\, Harlingen\, TX\, 78550\, United States
ATTACH;FMTTYPE=image/jpeg:https://visitharlingentexas.com/wp-content/uploads/2025/01/Harlingen-Farmer-Market.jpg
GEO:26.1896292;-97.6945151
X-APPLE-STRUCTURED-LOCATION;VALUE=URI;X-ADDRESS=2nd & Tyler Ave 2nd & Tyler Ave Harlingen TX 78550 United States;X-APPLE-RADIUS=500;X-TITLE=2nd & Tyler Ave:geo:-97.6945151,26.1896292
END:VEVENT
BEGIN:VEVENT
DTSTART;TZID=America/Chicago:20251220T150000
DTEND;TZID=America/Chicago:20251220T163000
DTSTAMP:20260423T122237
CREATED:20250102T203803Z
LAST-MODIFIED:20250102T203803Z
UID:4077-1766242800-1766248200@visitharlingentexas.com
SUMMARY:Harlingen Farmers Market
DESCRIPTION:Live Music & Local Produce! Every Saturday from 3- 4:30pm
URL:https://visitharlingentexas.com/event/harlingen-farmers-market-5/2025-12-20/
LOCATION:2nd & Tyler Ave\, 2nd & Tyler Ave\, Harlingen\, TX\, 78550\, United States
ATTACH;FMTTYPE=image/jpeg:https://visitharlingentexas.com/wp-content/uploads/2025/01/Harlingen-Farmer-Market.jpg
GEO:26.1896292;-97.6945151
X-APPLE-STRUCTURED-LOCATION;VALUE=URI;X-ADDRESS=2nd & Tyler Ave 2nd & Tyler Ave Harlingen TX 78550 United States;X-APPLE-RADIUS=500;X-TITLE=2nd & Tyler Ave:geo:-97.6945151,26.1896292
END:VEVENT
BEGIN:VEVENT
DTSTART;TZID=America/Chicago:20251219T180000
DTEND;TZID=America/Chicago:20251219T200000
DTSTAMP:20260423T122238
CREATED:20251203T185915Z
LAST-MODIFIED:20251203T185915Z
UID:4594-1766167200-1766174400@visitharlingentexas.com
SUMMARY:Harlingen Arts & Heritage Museum Dept. Meet & Greet
DESCRIPTION:
URL:https://visitharlingentexas.com/event/harlingen-arts-heritage-museum-dept-meet-greet/
LOCATION:Harlingen Arts & Heritage Museum\, 2425 Boxwood\, Harlingen\, TX\, 78550\, United States
ATTACH;FMTTYPE=image/png:https://visitharlingentexas.com/wp-content/uploads/2025/12/flyer-2-HH-1.png
GEO:26.2167902;-97.6673158
X-APPLE-STRUCTURED-LOCATION;VALUE=URI;X-ADDRESS=Harlingen Arts & Heritage Museum 2425 Boxwood Harlingen TX 78550 United States;X-APPLE-RADIUS=500;X-TITLE=2425 Boxwood:geo:-97.6673158,26.2167902
END:VEVENT
BEGIN:VEVENT
DTSTART;TZID=America/Chicago:20251213T150000
DTEND;TZID=America/Chicago:20251213T163000
DTSTAMP:20260423T122238
CREATED:20250102T203803Z
LAST-MODIFIED:20250102T203803Z
UID:4076-1765638000-1765643400@visitharlingentexas.com
SUMMARY:Harlingen Farmers Market
DESCRIPTION:Live Music & Local Produce! Every Saturday from 3- 4:30pm
URL:https://visitharlingentexas.com/event/harlingen-farmers-market-5/2025-12-13/
LOCATION:2nd & Tyler Ave\, 2nd & Tyler Ave\, Harlingen\, TX\, 78550\, United States
ATTACH;FMTTYPE=image/jpeg:https://visitharlingentexas.com/wp-content/uploads/2025/01/Harlingen-Farmer-Market.jpg
GEO:26.1896292;-97.6945151
X-APPLE-STRUCTURED-LOCATION;VALUE=URI;X-ADDRESS=2nd & Tyler Ave 2nd & Tyler Ave Harlingen TX 78550 United States;X-APPLE-RADIUS=500;X-TITLE=2nd & Tyler Ave:geo:-97.6945151,26.1896292
END:VEVENT
BEGIN:VEVENT
DTSTART;TZID=America/Chicago:20251211T170000
DTEND;TZID=America/Chicago:20251211T170000
DTSTAMP:20260423T122238
CREATED:20251029T154442Z
LAST-MODIFIED:20251029T154442Z
UID:4576-1765472400-1765472400@visitharlingentexas.com
SUMMARY:Holiday Stroll
DESCRIPTION:
URL:https://visitharlingentexas.com/event/holiday-stroll/
LOCATION:TX
END:VEVENT
BEGIN:VEVENT
DTSTART;TZID=America/Chicago:20251206T150000
DTEND;TZID=America/Chicago:20251206T163000
DTSTAMP:20260423T122238
CREATED:20250102T203803Z
LAST-MODIFIED:20250102T203803Z
UID:4075-1765033200-1765038600@visitharlingentexas.com
SUMMARY:Harlingen Farmers Market
DESCRIPTION:Live Music & Local Produce! Every Saturday from 3- 4:30pm
URL:https://visitharlingentexas.com/event/harlingen-farmers-market-5/2025-12-06/
LOCATION:2nd & Tyler Ave\, 2nd & Tyler Ave\, Harlingen\, TX\, 78550\, United States
ATTACH;FMTTYPE=image/jpeg:https://visitharlingentexas.com/wp-content/uploads/2025/01/Harlingen-Farmer-Market.jpg
GEO:26.1896292;-97.6945151
X-APPLE-STRUCTURED-LOCATION;VALUE=URI;X-ADDRESS=2nd & Tyler Ave 2nd & Tyler Ave Harlingen TX 78550 United States;X-APPLE-RADIUS=500;X-TITLE=2nd & Tyler Ave:geo:-97.6945151,26.1896292
END:VEVENT
BEGIN:VEVENT
DTSTART;TZID=America/Chicago:20251206T080000
DTEND;TZID=America/Chicago:20251206T140000
DTSTAMP:20260423T122238
CREATED:20251029T154309Z
LAST-MODIFIED:20251029T154309Z
UID:4574-1765008000-1765029600@visitharlingentexas.com
SUMMARY:Market Days
DESCRIPTION:
URL:https://visitharlingentexas.com/event/market-days-7/
LOCATION:TX
END:VEVENT
BEGIN:VEVENT
DTSTART;TZID=America/Chicago:20251205T180000
DTEND;TZID=America/Chicago:20251205T200000
DTSTAMP:20260423T122238
CREATED:20251029T154354Z
LAST-MODIFIED:20251029T160555Z
UID:4575-1764957600-1764964800@visitharlingentexas.com
SUMMARY:Grinchmas in the City
DESCRIPTION:
URL:https://visitharlingentexas.com/event/christmas-parade-2/
LOCATION:Downtown Jackson & A Street\, Andrew Jackson Street\, East Brewton\, Alabama\, 36426\, United States
ATTACH;FMTTYPE=image/jpeg:https://visitharlingentexas.com/wp-content/uploads/2025/10/ChristmasParade.jpg
GEO:31.0884115;-87.0558852
X-APPLE-STRUCTURED-LOCATION;VALUE=URI;X-ADDRESS=Downtown Jackson & A Street Andrew Jackson Street East Brewton Alabama 36426 United States;X-APPLE-RADIUS=500;X-TITLE=Andrew Jackson Street:geo:-87.0558852,31.0884115
END:VEVENT
BEGIN:VEVENT
DTSTART;TZID=America/Chicago:20251202T193000
DTEND;TZID=America/Chicago:20251202T193000
DTSTAMP:20260423T122238
CREATED:20250815T190612Z
LAST-MODIFIED:20250815T190612Z
UID:4526-1764703800-1764703800@visitharlingentexas.com
SUMMARY:Mariachi  7 Leguas
DESCRIPTION:
URL:https://visitharlingentexas.com/event/mariachi-7-leguas/
LOCATION:Christian Fellowship Church\, North Loop 499\, Harlingen\, Texas\, 78550\, United States
ATTACH;FMTTYPE=image/jpeg:https://visitharlingentexas.com/wp-content/uploads/2025/08/HarlingenConcertAssociation.jpg
GEO:26.222212;-97.6853716
X-APPLE-STRUCTURED-LOCATION;VALUE=URI;X-ADDRESS=Christian Fellowship Church North Loop 499 Harlingen Texas 78550 United States;X-APPLE-RADIUS=500;X-TITLE=North Loop 499:geo:-97.6853716,26.222212
END:VEVENT
BEGIN:VEVENT
DTSTART;TZID=America/Chicago:20251129T150000
DTEND;TZID=America/Chicago:20251129T163000
DTSTAMP:20260423T122238
CREATED:20250102T203803Z
LAST-MODIFIED:20250102T203803Z
UID:4074-1764428400-1764433800@visitharlingentexas.com
SUMMARY:Harlingen Farmers Market
DESCRIPTION:Live Music & Local Produce! Every Saturday from 3- 4:30pm
URL:https://visitharlingentexas.com/event/harlingen-farmers-market-5/2025-11-29/
LOCATION:2nd & Tyler Ave\, 2nd & Tyler Ave\, Harlingen\, TX\, 78550\, United States
ATTACH;FMTTYPE=image/jpeg:https://visitharlingentexas.com/wp-content/uploads/2025/01/Harlingen-Farmer-Market.jpg
GEO:26.1896292;-97.6945151
X-APPLE-STRUCTURED-LOCATION;VALUE=URI;X-ADDRESS=2nd & Tyler Ave 2nd & Tyler Ave Harlingen TX 78550 United States;X-APPLE-RADIUS=500;X-TITLE=2nd & Tyler Ave:geo:-97.6945151,26.1896292
END:VEVENT
BEGIN:VEVENT
DTSTART;TZID=America/Chicago:20251129T080000
DTEND;TZID=America/Chicago:20251129T170000
DTSTAMP:20260423T122238
CREATED:20251029T154220Z
LAST-MODIFIED:20251029T154220Z
UID:4573-1764403200-1764435600@visitharlingentexas.com
SUMMARY:Small Business Saturday
DESCRIPTION:
URL:https://visitharlingentexas.com/event/small-business-saturday/
LOCATION:TX
END:VEVENT
BEGIN:VEVENT
DTSTART;TZID=America/Chicago:20251122T150000
DTEND;TZID=America/Chicago:20251122T163000
DTSTAMP:20260423T122238
CREATED:20250102T203803Z
LAST-MODIFIED:20250102T203803Z
UID:4073-1763823600-1763829000@visitharlingentexas.com
SUMMARY:Harlingen Farmers Market
DESCRIPTION:Live Music & Local Produce! Every Saturday from 3- 4:30pm
URL:https://visitharlingentexas.com/event/harlingen-farmers-market-5/2025-11-22/
LOCATION:2nd & Tyler Ave\, 2nd & Tyler Ave\, Harlingen\, TX\, 78550\, United States
ATTACH;FMTTYPE=image/jpeg:https://visitharlingentexas.com/wp-content/uploads/2025/01/Harlingen-Farmer-Market.jpg
GEO:26.1896292;-97.6945151
X-APPLE-STRUCTURED-LOCATION;VALUE=URI;X-ADDRESS=2nd & Tyler Ave 2nd & Tyler Ave Harlingen TX 78550 United States;X-APPLE-RADIUS=500;X-TITLE=2nd & Tyler Ave:geo:-97.6945151,26.1896292
END:VEVENT
BEGIN:VEVENT
DTSTART;TZID=America/Chicago:20251122T100000
DTEND;TZID=America/Chicago:20251122T120000
DTSTAMP:20260423T122238
CREATED:20251029T154940Z
LAST-MODIFIED:20251029T154940Z
UID:4579-1763805600-1763812800@visitharlingentexas.com
SUMMARY:Adaptive Tennis Clinic
DESCRIPTION:
URL:https://visitharlingentexas.com/event/adaptive-tennis-clinic/
LOCATION:TX
ATTACH;FMTTYPE=image/jpeg:https://visitharlingentexas.com/wp-content/uploads/2025/10/AdaptiveTennisCllinic.jpeg
END:VEVENT
BEGIN:VEVENT
DTSTART;TZID=America/Chicago:20251115T150000
DTEND;TZID=America/Chicago:20251115T163000
DTSTAMP:20260423T122238
CREATED:20250102T203803Z
LAST-MODIFIED:20250102T203803Z
UID:4072-1763218800-1763224200@visitharlingentexas.com
SUMMARY:Harlingen Farmers Market
DESCRIPTION:Live Music & Local Produce! Every Saturday from 3- 4:30pm
URL:https://visitharlingentexas.com/event/harlingen-farmers-market-5/2025-11-15/
LOCATION:2nd & Tyler Ave\, 2nd & Tyler Ave\, Harlingen\, TX\, 78550\, United States
ATTACH;FMTTYPE=image/jpeg:https://visitharlingentexas.com/wp-content/uploads/2025/01/Harlingen-Farmer-Market.jpg
GEO:26.1896292;-97.6945151
X-APPLE-STRUCTURED-LOCATION;VALUE=URI;X-ADDRESS=2nd & Tyler Ave 2nd & Tyler Ave Harlingen TX 78550 United States;X-APPLE-RADIUS=500;X-TITLE=2nd & Tyler Ave:geo:-97.6945151,26.1896292
END:VEVENT
BEGIN:VEVENT
DTSTART;TZID=America/Chicago:20251108T150000
DTEND;TZID=America/Chicago:20251108T163000
DTSTAMP:20260423T122238
CREATED:20250102T203803Z
LAST-MODIFIED:20250102T203803Z
UID:4071-1762614000-1762619400@visitharlingentexas.com
SUMMARY:Harlingen Farmers Market
DESCRIPTION:Live Music & Local Produce! Every Saturday from 3- 4:30pm
URL:https://visitharlingentexas.com/event/harlingen-farmers-market-5/2025-11-08/
LOCATION:2nd & Tyler Ave\, 2nd & Tyler Ave\, Harlingen\, TX\, 78550\, United States
ATTACH;FMTTYPE=image/jpeg:https://visitharlingentexas.com/wp-content/uploads/2025/01/Harlingen-Farmer-Market.jpg
GEO:26.1896292;-97.6945151
X-APPLE-STRUCTURED-LOCATION;VALUE=URI;X-ADDRESS=2nd & Tyler Ave 2nd & Tyler Ave Harlingen TX 78550 United States;X-APPLE-RADIUS=500;X-TITLE=2nd & Tyler Ave:geo:-97.6945151,26.1896292
END:VEVENT
BEGIN:VEVENT
DTSTART;TZID=America/Chicago:20251108T070000
DTEND;TZID=America/Chicago:20251108T093000
DTSTAMP:20260423T122238
CREATED:20251029T155250Z
LAST-MODIFIED:20251029T155250Z
UID:4581-1762585200-1762594200@visitharlingentexas.com
SUMMARY:Thanks "Food Drive" A-Latte
DESCRIPTION:
URL:https://visitharlingentexas.com/event/thanks-food-drive-a-latte/
LOCATION:TX
ATTACH;FMTTYPE=image/png:https://visitharlingentexas.com/wp-content/uploads/2025/10/Thanks-A-Latte-Jitter-Run-4.png
END:VEVENT
BEGIN:VEVENT
DTSTART;TZID=America/Chicago:20251105T080000
DTEND;TZID=America/Chicago:20251109T170000
DTSTAMP:20260423T122238
CREATED:20250804T161327Z
LAST-MODIFIED:20250804T161327Z
UID:4512-1762329600-1762707600@visitharlingentexas.com
SUMMARY:RGV Birding Festival
DESCRIPTION:
URL:https://visitharlingentexas.com/event/rgv-birding-festival/
LOCATION:Harlingen Convention Center\, 701 Harlingen Heights Dr\, Harlingen\, TX\, 78552\, United States
ATTACH;FMTTYPE=image/jpeg:https://visitharlingentexas.com/wp-content/uploads/2025/08/RGVBirdingFestival.jpg
GEO:26.1991099;-97.7238134
X-APPLE-STRUCTURED-LOCATION;VALUE=URI;X-ADDRESS=Harlingen Convention Center 701 Harlingen Heights Dr Harlingen TX 78552 United States;X-APPLE-RADIUS=500;X-TITLE=701 Harlingen Heights Dr:geo:-97.7238134,26.1991099
END:VEVENT
BEGIN:VEVENT
DTSTART;TZID=America/Chicago:20251104T193000
DTEND;TZID=America/Chicago:20251104T193000
DTSTAMP:20260423T122238
CREATED:20250815T190456Z
LAST-MODIFIED:20250815T190456Z
UID:4524-1762284600-1762284600@visitharlingentexas.com
SUMMARY:The Brothers Doobie
DESCRIPTION:
URL:https://visitharlingentexas.com/event/the-brothers-doobie/
LOCATION:Christian Fellowship Church\, North Loop 499\, Harlingen\, Texas\, 78550\, United States
ATTACH;FMTTYPE=image/jpeg:https://visitharlingentexas.com/wp-content/uploads/2025/08/HarlingenConcertAssociation.jpg
GEO:26.222212;-97.6853716
X-APPLE-STRUCTURED-LOCATION;VALUE=URI;X-ADDRESS=Christian Fellowship Church North Loop 499 Harlingen Texas 78550 United States;X-APPLE-RADIUS=500;X-TITLE=North Loop 499:geo:-97.6853716,26.222212
END:VEVENT
BEGIN:VEVENT
DTSTART;TZID=America/Chicago:20251103T080000
DTEND;TZID=America/Chicago:20251112T170000
DTSTAMP:20260423T122238
CREATED:20251029T154730Z
LAST-MODIFIED:20251029T154730Z
UID:4577-1762156800-1762966800@visitharlingentexas.com
SUMMARY:Free Swim Lessons
DESCRIPTION:
URL:https://visitharlingentexas.com/event/free-swim-lessons/
LOCATION:TX
ATTACH;FMTTYPE=image/jpeg:https://visitharlingentexas.com/wp-content/uploads/2025/10/Pool-Safely-Program-Flyer.jpg
END:VEVENT
BEGIN:VEVENT
DTSTART;TZID=America/Chicago:20251101T150000
DTEND;TZID=America/Chicago:20251101T163000
DTSTAMP:20260423T122238
CREATED:20250102T203803Z
LAST-MODIFIED:20250102T203803Z
UID:4070-1762009200-1762014600@visitharlingentexas.com
SUMMARY:Harlingen Farmers Market
DESCRIPTION:Live Music & Local Produce! Every Saturday from 3- 4:30pm
URL:https://visitharlingentexas.com/event/harlingen-farmers-market-5/2025-11-01/
LOCATION:2nd & Tyler Ave\, 2nd & Tyler Ave\, Harlingen\, TX\, 78550\, United States
ATTACH;FMTTYPE=image/jpeg:https://visitharlingentexas.com/wp-content/uploads/2025/01/Harlingen-Farmer-Market.jpg
GEO:26.1896292;-97.6945151
X-APPLE-STRUCTURED-LOCATION;VALUE=URI;X-ADDRESS=2nd & Tyler Ave 2nd & Tyler Ave Harlingen TX 78550 United States;X-APPLE-RADIUS=500;X-TITLE=2nd & Tyler Ave:geo:-97.6945151,26.1896292
END:VEVENT
BEGIN:VEVENT
DTSTART;TZID=America/Chicago:20251101T090000
DTEND;TZID=America/Chicago:20251101T150000
DTSTAMP:20260423T122238
CREATED:20251029T153521Z
LAST-MODIFIED:20251029T160405Z
UID:4572-1761987600-1762009200@visitharlingentexas.com
SUMMARY:Market Days
DESCRIPTION:
URL:https://visitharlingentexas.com/event/market-days-6/
LOCATION:Jackson Steet and Centennial Park
ATTACH;FMTTYPE=image/jpeg:https://visitharlingentexas.com/wp-content/uploads/2025/10/MarketDays.jpg
END:VEVENT
BEGIN:VEVENT
DTSTART;TZID=America/Chicago:20251031T000000
DTEND;TZID=America/Chicago:20251031T000000
DTSTAMP:20260423T122238
CREATED:20250804T155356Z
LAST-MODIFIED:20250804T155356Z
UID:4511-1761868800-1761868800@visitharlingentexas.com
SUMMARY:Halloween In the Park
DESCRIPTION:
URL:https://visitharlingentexas.com/event/halloween-in-the-park-2/
LOCATION:TX
ATTACH;FMTTYPE=image/png:https://visitharlingentexas.com/wp-content/uploads/2021/05/Final-Harlingen-CVB-Logo-01.png
END:VEVENT
BEGIN:VEVENT
DTSTART;TZID=America/Chicago:20251025T150000
DTEND;TZID=America/Chicago:20251025T163000
DTSTAMP:20260423T122238
CREATED:20250102T203803Z
LAST-MODIFIED:20250102T203803Z
UID:4069-1761404400-1761409800@visitharlingentexas.com
SUMMARY:Harlingen Farmers Market
DESCRIPTION:Live Music & Local Produce! Every Saturday from 3- 4:30pm
URL:https://visitharlingentexas.com/event/harlingen-farmers-market-5/2025-10-25/
LOCATION:2nd & Tyler Ave\, 2nd & Tyler Ave\, Harlingen\, TX\, 78550\, United States
ATTACH;FMTTYPE=image/jpeg:https://visitharlingentexas.com/wp-content/uploads/2025/01/Harlingen-Farmer-Market.jpg
GEO:26.1896292;-97.6945151
X-APPLE-STRUCTURED-LOCATION;VALUE=URI;X-ADDRESS=2nd & Tyler Ave 2nd & Tyler Ave Harlingen TX 78550 United States;X-APPLE-RADIUS=500;X-TITLE=2nd & Tyler Ave:geo:-97.6945151,26.1896292
END:VEVENT
BEGIN:VEVENT
DTSTART;TZID=America/Chicago:20251023T000000
DTEND;TZID=America/Chicago:20251023T000000
DTSTAMP:20260423T122238
CREATED:20250804T155212Z
LAST-MODIFIED:20250804T155212Z
UID:4510-1761177600-1761177600@visitharlingentexas.com
SUMMARY:Greater Chamber of Harlingen Noche de Gala
DESCRIPTION:
URL:https://visitharlingentexas.com/event/greater-chamber-of-harlingen-noche-de-gala/
LOCATION:TX
ATTACH;FMTTYPE=image/png:https://visitharlingentexas.com/wp-content/uploads/2021/05/Final-Harlingen-CVB-Logo-01.png
END:VEVENT
BEGIN:VEVENT
DTSTART;TZID=America/Chicago:20251019T080000
DTEND;TZID=America/Chicago:20251019T080000
DTSTAMP:20260423T122238
CREATED:20250804T154442Z
LAST-MODIFIED:20250804T154442Z
UID:4505-1760860800-1760860800@visitharlingentexas.com
SUMMARY:11th Run with the Heroes
DESCRIPTION:
URL:https://visitharlingentexas.com/event/11th-run-with-the-heroes/
LOCATION:1101 E. New Hampshire\, 1101 E. New Hampshire\, Harlingen\, TX\, 78550\, United States
ATTACH;FMTTYPE=image/jpeg:https://visitharlingentexas.com/wp-content/uploads/2025/08/11thRunWalk.jpg
END:VEVENT
BEGIN:VEVENT
DTSTART;TZID=America/Chicago:20251018T150000
DTEND;TZID=America/Chicago:20251018T163000
DTSTAMP:20260423T122238
CREATED:20250102T203803Z
LAST-MODIFIED:20250102T203803Z
UID:4068-1760799600-1760805000@visitharlingentexas.com
SUMMARY:Harlingen Farmers Market
DESCRIPTION:Live Music & Local Produce! Every Saturday from 3- 4:30pm
URL:https://visitharlingentexas.com/event/harlingen-farmers-market-5/2025-10-18/
LOCATION:2nd & Tyler Ave\, 2nd & Tyler Ave\, Harlingen\, TX\, 78550\, United States
ATTACH;FMTTYPE=image/jpeg:https://visitharlingentexas.com/wp-content/uploads/2025/01/Harlingen-Farmer-Market.jpg
GEO:26.1896292;-97.6945151
X-APPLE-STRUCTURED-LOCATION;VALUE=URI;X-ADDRESS=2nd & Tyler Ave 2nd & Tyler Ave Harlingen TX 78550 United States;X-APPLE-RADIUS=500;X-TITLE=2nd & Tyler Ave:geo:-97.6945151,26.1896292
END:VEVENT
BEGIN:VEVENT
DTSTART;TZID=America/Chicago:20251012T100000
DTEND;TZID=America/Chicago:20251012T170000
DTSTAMP:20260423T122238
CREATED:20250815T190326Z
LAST-MODIFIED:20250815T190326Z
UID:4523-1760263200-1760288400@visitharlingentexas.com
SUMMARY:75th Anniversary Open House Beth Israel Temple
DESCRIPTION:
URL:https://visitharlingentexas.com/event/75th-anniversary-open-house-beth-israel-temple/
LOCATION:TX
ATTACH;FMTTYPE=image/png:https://visitharlingentexas.com/wp-content/uploads/2025/08/thumbnail_MOD75-Event-Flyer.png
END:VEVENT
BEGIN:VEVENT
DTSTART;TZID=America/Chicago:20251012T090000
DTEND;TZID=America/Chicago:20251012T090000
DTSTAMP:20260423T122238
CREATED:20250908T161012Z
LAST-MODIFIED:20250908T161012Z
UID:4559-1760259600-1760259600@visitharlingentexas.com
SUMMARY:Showdown at the Arroyo IV
DESCRIPTION:
URL:https://visitharlingentexas.com/event/showdown-at-the-arroyo-iv-2/
LOCATION:1101 E. New Hampshire\, 1101 E. New Hampshire\, Harlingen\, TX\, 78550\, United States
ATTACH;FMTTYPE=image/png:https://visitharlingentexas.com/wp-content/uploads/2025/09/ShowDown@TheArroyo.png
END:VEVENT
BEGIN:VEVENT
DTSTART;TZID=America/Chicago:20251011T150000
DTEND;TZID=America/Chicago:20251011T163000
DTSTAMP:20260423T122238
CREATED:20250102T203803Z
LAST-MODIFIED:20250102T203803Z
UID:4067-1760194800-1760200200@visitharlingentexas.com
SUMMARY:Harlingen Farmers Market
DESCRIPTION:Live Music & Local Produce! Every Saturday from 3- 4:30pm
URL:https://visitharlingentexas.com/event/harlingen-farmers-market-5/2025-10-11/
LOCATION:2nd & Tyler Ave\, 2nd & Tyler Ave\, Harlingen\, TX\, 78550\, United States
ATTACH;FMTTYPE=image/jpeg:https://visitharlingentexas.com/wp-content/uploads/2025/01/Harlingen-Farmer-Market.jpg
GEO:26.1896292;-97.6945151
X-APPLE-STRUCTURED-LOCATION;VALUE=URI;X-ADDRESS=2nd & Tyler Ave 2nd & Tyler Ave Harlingen TX 78550 United States;X-APPLE-RADIUS=500;X-TITLE=2nd & Tyler Ave:geo:-97.6945151,26.1896292
END:VEVENT
BEGIN:VEVENT
DTSTART;TZID=America/Chicago:20251011T100000
DTEND;TZID=America/Chicago:20251011T170000
DTSTAMP:20260423T122238
CREATED:20250815T190151Z
LAST-MODIFIED:20250815T190224Z
UID:4521-1760176800-1760202000@visitharlingentexas.com
SUMMARY:Open Houses Tour & 75th Birthday Bash
DESCRIPTION:
URL:https://visitharlingentexas.com/event/harlingen-mod-75/
LOCATION:TX
ATTACH;FMTTYPE=image/png:https://visitharlingentexas.com/wp-content/uploads/2025/08/thumbnail_MOD75-Event-Flyer.png
END:VEVENT
END:VCALENDAR