BEGIN:VCALENDAR
VERSION:2.0
PRODID:-//Visit Harlingen, Texas - ECPv6.15.20//NONSGML v1.0//EN
CALSCALE:GREGORIAN
METHOD:PUBLISH
X-ORIGINAL-URL:https://visitharlingentexas.com
X-WR-CALDESC:Events for Visit Harlingen, Texas
REFRESH-INTERVAL;VALUE=DURATION:PT1H
X-Robots-Tag:noindex
X-PUBLISHED-TTL:PT1H
BEGIN:VTIMEZONE
TZID:America/Chicago
BEGIN:DAYLIGHT
TZOFFSETFROM:-0600
TZOFFSETTO:-0500
TZNAME:CDT
DTSTART:20240310T080000
END:DAYLIGHT
BEGIN:STANDARD
TZOFFSETFROM:-0500
TZOFFSETTO:-0600
TZNAME:CST
DTSTART:20241103T070000
END:STANDARD
BEGIN:DAYLIGHT
TZOFFSETFROM:-0600
TZOFFSETTO:-0500
TZNAME:CDT
DTSTART:20250309T080000
END:DAYLIGHT
BEGIN:STANDARD
TZOFFSETFROM:-0500
TZOFFSETTO:-0600
TZNAME:CST
DTSTART:20251102T070000
END:STANDARD
BEGIN:DAYLIGHT
TZOFFSETFROM:-0600
TZOFFSETTO:-0500
TZNAME:CDT
DTSTART:20260308T080000
END:DAYLIGHT
BEGIN:STANDARD
TZOFFSETFROM:-0500
TZOFFSETTO:-0600
TZNAME:CST
DTSTART:20261101T070000
END:STANDARD
END:VTIMEZONE
BEGIN:VEVENT
DTSTART;TZID=America/Chicago:20251101T090000
DTEND;TZID=America/Chicago:20251101T150000
DTSTAMP:20260423T172446
CREATED:20251029T153521Z
LAST-MODIFIED:20251029T160405Z
UID:4572-1761987600-1762009200@visitharlingentexas.com
SUMMARY:Market Days
DESCRIPTION:
URL:https://visitharlingentexas.com/event/market-days-6/
LOCATION:Jackson Steet and Centennial Park
ATTACH;FMTTYPE=image/jpeg:https://visitharlingentexas.com/wp-content/uploads/2025/10/MarketDays.jpg
END:VEVENT
BEGIN:VEVENT
DTSTART;TZID=America/Chicago:20251031T000000
DTEND;TZID=America/Chicago:20251031T000000
DTSTAMP:20260423T172446
CREATED:20250804T155356Z
LAST-MODIFIED:20250804T155356Z
UID:4511-1761868800-1761868800@visitharlingentexas.com
SUMMARY:Halloween In the Park
DESCRIPTION:
URL:https://visitharlingentexas.com/event/halloween-in-the-park-2/
ATTACH;FMTTYPE=image/png:https://visitharlingentexas.com/wp-content/uploads/2021/05/Final-Harlingen-CVB-Logo-01.png
END:VEVENT
BEGIN:VEVENT
DTSTART;TZID=America/Chicago:20251025T150000
DTEND;TZID=America/Chicago:20251025T163000
DTSTAMP:20260423T172446
CREATED:20250102T203803Z
LAST-MODIFIED:20250102T203803Z
UID:4069-1761404400-1761409800@visitharlingentexas.com
SUMMARY:Harlingen Farmers Market
DESCRIPTION:Live Music & Local Produce! Every Saturday from 3- 4:30pm
URL:https://visitharlingentexas.com/event/harlingen-farmers-market-5/2025-10-25/
LOCATION:2nd & Tyler Ave\, 2nd & Tyler Ave\, Harlingen\, TX\, 78550\, United States
ATTACH;FMTTYPE=image/jpeg:https://visitharlingentexas.com/wp-content/uploads/2025/01/Harlingen-Farmer-Market.jpg
GEO:26.1896292;-97.6945151
X-APPLE-STRUCTURED-LOCATION;VALUE=URI;X-ADDRESS=2nd & Tyler Ave 2nd & Tyler Ave Harlingen TX 78550 United States;X-APPLE-RADIUS=500;X-TITLE=2nd & Tyler Ave:geo:-97.6945151,26.1896292
END:VEVENT
BEGIN:VEVENT
DTSTART;TZID=America/Chicago:20251023T000000
DTEND;TZID=America/Chicago:20251023T000000
DTSTAMP:20260423T172446
CREATED:20250804T155212Z
LAST-MODIFIED:20250804T155212Z
UID:4510-1761177600-1761177600@visitharlingentexas.com
SUMMARY:Greater Chamber of Harlingen Noche de Gala
DESCRIPTION:
URL:https://visitharlingentexas.com/event/greater-chamber-of-harlingen-noche-de-gala/
ATTACH;FMTTYPE=image/png:https://visitharlingentexas.com/wp-content/uploads/2021/05/Final-Harlingen-CVB-Logo-01.png
END:VEVENT
BEGIN:VEVENT
DTSTART;TZID=America/Chicago:20251019T080000
DTEND;TZID=America/Chicago:20251019T080000
DTSTAMP:20260423T172446
CREATED:20250804T154442Z
LAST-MODIFIED:20250804T154442Z
UID:4505-1760860800-1760860800@visitharlingentexas.com
SUMMARY:11th Run with the Heroes
DESCRIPTION:
URL:https://visitharlingentexas.com/event/11th-run-with-the-heroes/
LOCATION:1101 E. New Hampshire\, 1101 E. New Hampshire\, Harlingen\, TX\, 78550\, United States
ATTACH;FMTTYPE=image/jpeg:https://visitharlingentexas.com/wp-content/uploads/2025/08/11thRunWalk.jpg
END:VEVENT
BEGIN:VEVENT
DTSTART;TZID=America/Chicago:20251018T150000
DTEND;TZID=America/Chicago:20251018T163000
DTSTAMP:20260423T172446
CREATED:20250102T203803Z
LAST-MODIFIED:20250102T203803Z
UID:4068-1760799600-1760805000@visitharlingentexas.com
SUMMARY:Harlingen Farmers Market
DESCRIPTION:Live Music & Local Produce! Every Saturday from 3- 4:30pm
URL:https://visitharlingentexas.com/event/harlingen-farmers-market-5/2025-10-18/
LOCATION:2nd & Tyler Ave\, 2nd & Tyler Ave\, Harlingen\, TX\, 78550\, United States
ATTACH;FMTTYPE=image/jpeg:https://visitharlingentexas.com/wp-content/uploads/2025/01/Harlingen-Farmer-Market.jpg
GEO:26.1896292;-97.6945151
X-APPLE-STRUCTURED-LOCATION;VALUE=URI;X-ADDRESS=2nd & Tyler Ave 2nd & Tyler Ave Harlingen TX 78550 United States;X-APPLE-RADIUS=500;X-TITLE=2nd & Tyler Ave:geo:-97.6945151,26.1896292
END:VEVENT
BEGIN:VEVENT
DTSTART;TZID=America/Chicago:20251012T100000
DTEND;TZID=America/Chicago:20251012T170000
DTSTAMP:20260423T172446
CREATED:20250815T190326Z
LAST-MODIFIED:20250815T190326Z
UID:4523-1760263200-1760288400@visitharlingentexas.com
SUMMARY:75th Anniversary Open House Beth Israel Temple
DESCRIPTION:
URL:https://visitharlingentexas.com/event/75th-anniversary-open-house-beth-israel-temple/
ATTACH;FMTTYPE=image/png:https://visitharlingentexas.com/wp-content/uploads/2025/08/thumbnail_MOD75-Event-Flyer.png
END:VEVENT
BEGIN:VEVENT
DTSTART;TZID=America/Chicago:20251012T090000
DTEND;TZID=America/Chicago:20251012T090000
DTSTAMP:20260423T172446
CREATED:20250908T161012Z
LAST-MODIFIED:20250908T161012Z
UID:4559-1760259600-1760259600@visitharlingentexas.com
SUMMARY:Showdown at the Arroyo IV
DESCRIPTION:
URL:https://visitharlingentexas.com/event/showdown-at-the-arroyo-iv-2/
LOCATION:1101 E. New Hampshire\, 1101 E. New Hampshire\, Harlingen\, TX\, 78550\, United States
ATTACH;FMTTYPE=image/png:https://visitharlingentexas.com/wp-content/uploads/2025/09/ShowDown@TheArroyo.png
END:VEVENT
BEGIN:VEVENT
DTSTART;TZID=America/Chicago:20251011T150000
DTEND;TZID=America/Chicago:20251011T163000
DTSTAMP:20260423T172446
CREATED:20250102T203803Z
LAST-MODIFIED:20250102T203803Z
UID:4067-1760194800-1760200200@visitharlingentexas.com
SUMMARY:Harlingen Farmers Market
DESCRIPTION:Live Music & Local Produce! Every Saturday from 3- 4:30pm
URL:https://visitharlingentexas.com/event/harlingen-farmers-market-5/2025-10-11/
LOCATION:2nd & Tyler Ave\, 2nd & Tyler Ave\, Harlingen\, TX\, 78550\, United States
ATTACH;FMTTYPE=image/jpeg:https://visitharlingentexas.com/wp-content/uploads/2025/01/Harlingen-Farmer-Market.jpg
GEO:26.1896292;-97.6945151
X-APPLE-STRUCTURED-LOCATION;VALUE=URI;X-ADDRESS=2nd & Tyler Ave 2nd & Tyler Ave Harlingen TX 78550 United States;X-APPLE-RADIUS=500;X-TITLE=2nd & Tyler Ave:geo:-97.6945151,26.1896292
END:VEVENT
BEGIN:VEVENT
DTSTART;TZID=America/Chicago:20251011T100000
DTEND;TZID=America/Chicago:20251011T170000
DTSTAMP:20260423T172446
CREATED:20250815T190151Z
LAST-MODIFIED:20250815T190224Z
UID:4521-1760176800-1760202000@visitharlingentexas.com
SUMMARY:Open Houses Tour & 75th Birthday Bash
DESCRIPTION:
URL:https://visitharlingentexas.com/event/harlingen-mod-75/
ATTACH;FMTTYPE=image/png:https://visitharlingentexas.com/wp-content/uploads/2025/08/thumbnail_MOD75-Event-Flyer.png
END:VEVENT
BEGIN:VEVENT
DTSTART;TZID=America/Chicago:20251011T090000
DTEND;TZID=America/Chicago:20251011T090000
DTSTAMP:20260423T172446
CREATED:20250908T160505Z
LAST-MODIFIED:20250908T160921Z
UID:4557-1760173200-1760173200@visitharlingentexas.com
SUMMARY:Showdown at the Arroyo IV
DESCRIPTION:
URL:https://visitharlingentexas.com/event/showdown-at-the-arroyo-iv/
LOCATION:1101 E. New Hampshire\, 1101 E. New Hampshire\, Harlingen\, TX\, 78550\, United States
ATTACH;FMTTYPE=image/png:https://visitharlingentexas.com/wp-content/uploads/2025/09/ShowDown@TheArroyo.png
END:VEVENT
BEGIN:VEVENT
DTSTART;TZID=America/Chicago:20251004T150000
DTEND;TZID=America/Chicago:20251004T163000
DTSTAMP:20260423T172446
CREATED:20250102T203803Z
LAST-MODIFIED:20250102T203803Z
UID:4066-1759590000-1759595400@visitharlingentexas.com
SUMMARY:Harlingen Farmers Market
DESCRIPTION:Live Music & Local Produce! Every Saturday from 3- 4:30pm
URL:https://visitharlingentexas.com/event/harlingen-farmers-market-5/2025-10-04/
LOCATION:2nd & Tyler Ave\, 2nd & Tyler Ave\, Harlingen\, TX\, 78550\, United States
ATTACH;FMTTYPE=image/jpeg:https://visitharlingentexas.com/wp-content/uploads/2025/01/Harlingen-Farmer-Market.jpg
GEO:26.1896292;-97.6945151
X-APPLE-STRUCTURED-LOCATION;VALUE=URI;X-ADDRESS=2nd & Tyler Ave 2nd & Tyler Ave Harlingen TX 78550 United States;X-APPLE-RADIUS=500;X-TITLE=2nd & Tyler Ave:geo:-97.6945151,26.1896292
END:VEVENT
BEGIN:VEVENT
DTSTART;TZID=America/Chicago:20250926T080000
DTEND;TZID=America/Chicago:20250927T220000
DTSTAMP:20260423T172446
CREATED:20250804T154210Z
LAST-MODIFIED:20250805T164232Z
UID:4502-1758873600-1759010400@visitharlingentexas.com
SUMMARY:Riofest 2025
DESCRIPTION:
URL:https://visitharlingentexas.com/event/riofest-2025/
LOCATION:Harlingen Baseball Field\, 1216 Fair Park Blvd\, Harlingen\, Texas
ATTACH;FMTTYPE=image/jpeg:https://visitharlingentexas.com/wp-content/uploads/2025/08/RiofestPoster2025.jpg
END:VEVENT
BEGIN:VEVENT
DTSTART;TZID=America/Chicago:20250915T080000
DTEND;TZID=America/Chicago:20250915T170000
DTSTAMP:20260423T172446
CREATED:20250804T155050Z
LAST-MODIFIED:20250804T155050Z
UID:4509-1757923200-1757955600@visitharlingentexas.com
SUMMARY:Market Day
DESCRIPTION:
URL:https://visitharlingentexas.com/event/market-day/
ATTACH;FMTTYPE=image/jpeg:https://visitharlingentexas.com/wp-content/uploads/2023/01/Market-Days.jpg
END:VEVENT
BEGIN:VEVENT
DTSTART;TZID=America/Chicago:20250913T070000
DTEND;TZID=America/Chicago:20250913T093000
DTSTAMP:20260423T172446
CREATED:20250827T144403Z
LAST-MODIFIED:20250827T144403Z
UID:4551-1757746800-1757755800@visitharlingentexas.com
SUMMARY:Jitter Run Social
DESCRIPTION:
URL:https://visitharlingentexas.com/event/jitter-run-social/
LOCATION:Pendleton Park\, 1427 Morgan Blvd\, Harlingen\, TX\, 78550\, United States
ATTACH;FMTTYPE=image/jpeg:https://visitharlingentexas.com/wp-content/uploads/2025/08/JitterRunSocial.jpg
END:VEVENT
BEGIN:VEVENT
DTSTART;TZID=America/Chicago:20250913T000000
DTEND;TZID=America/Chicago:20250913T000000
DTSTAMP:20260423T172446
CREATED:20250715T151937Z
LAST-MODIFIED:20250715T151937Z
UID:4473-1757721600-1757721600@visitharlingentexas.com
SUMMARY:Save the Date: Fiesta de Pinatas
DESCRIPTION:
URL:https://visitharlingentexas.com/event/save-the-date-fiesta-de-pinatas/
ATTACH;FMTTYPE=image/jpeg:https://visitharlingentexas.com/wp-content/uploads/2025/07/Fiestadepinatas.jpg
END:VEVENT
BEGIN:VEVENT
DTSTART;TZID=America/Chicago:20250829T190000
DTEND;TZID=America/Chicago:20250829T220000
DTSTAMP:20260423T172446
CREATED:20250804T154843Z
LAST-MODIFIED:20250804T154843Z
UID:4508-1756494000-1756504800@visitharlingentexas.com
SUMMARY:Art Night
DESCRIPTION:
URL:https://visitharlingentexas.com/event/art-night/
ATTACH;FMTTYPE=image/jpeg:https://visitharlingentexas.com/wp-content/uploads/2025/02/Harlingen-Art-Night.jpg
END:VEVENT
BEGIN:VEVENT
DTSTART;TZID=America/Chicago:20250816T190000
DTEND;TZID=America/Chicago:20250816T220000
DTSTAMP:20260423T172446
CREATED:20250703T153807Z
LAST-MODIFIED:20250703T153837Z
UID:4386-1755370800-1755381600@visitharlingentexas.com
SUMMARY:Downtown at Sundown
DESCRIPTION:
URL:https://visitharlingentexas.com/event/downtown-at-sundown-6/
LOCATION:Downtown Harlingen\, W. Jackson St.\, Harlingen\, TX\, 78550
ATTACH;FMTTYPE=image/png:https://visitharlingentexas.com/wp-content/uploads/2025/02/DowntownSunDown.png
GEO:26.1927443;-97.7038548
X-APPLE-STRUCTURED-LOCATION;VALUE=URI;X-ADDRESS=Downtown Harlingen W. Jackson St. Harlingen TX 78550;X-APPLE-RADIUS=500;X-TITLE=W. Jackson St.:geo:-97.7038548,26.1927443
END:VEVENT
BEGIN:VEVENT
DTSTART;TZID=America/Chicago:20250816T080000
DTEND;TZID=America/Chicago:20250816T080000
DTSTAMP:20260423T172446
CREATED:20250804T153806Z
LAST-MODIFIED:20250804T153806Z
UID:4500-1755331200-1755331200@visitharlingentexas.com
SUMMARY:Harlingen Parks & Rec Jitter Run
DESCRIPTION:
URL:https://visitharlingentexas.com/event/harlingen-parks-rec-jitter-run/
LOCATION:McKelvey Park\, 1325 S. 77 Sunshine Strip\, Harlingen\, TX\, 78550\, United States
ATTACH;FMTTYPE=image/jpeg:https://visitharlingentexas.com/wp-content/uploads/2025/08/BeanThereDoneThatRun.jpg
END:VEVENT
BEGIN:VEVENT
DTSTART;TZID=America/Chicago:20250809T090000
DTEND;TZID=America/Chicago:20250809T160000
DTSTAMP:20260423T172446
CREATED:20250804T153632Z
LAST-MODIFIED:20250804T153632Z
UID:4498-1754730000-1754755200@visitharlingentexas.com
SUMMARY:Pickleball Senior Clinic
DESCRIPTION:
URL:https://visitharlingentexas.com/event/pickleball-senior-clinic/
LOCATION:Harlingen Community Center\, 201 E. Madison Ave.\, Harlingen\, TX\, 78550\, United States
ATTACH;FMTTYPE=image/jpeg:https://visitharlingentexas.com/wp-content/uploads/2025/08/PickleBallSrClinic.jpg
END:VEVENT
BEGIN:VEVENT
DTSTART;TZID=America/Chicago:20250807T093000
DTEND;TZID=America/Chicago:20250807T093000
DTSTAMP:20260423T172446
CREATED:20250804T153512Z
LAST-MODIFIED:20250804T153512Z
UID:4496-1754559000-1754559000@visitharlingentexas.com
SUMMARY:Riofest 2025 Press Conference
DESCRIPTION:
URL:https://visitharlingentexas.com/event/riofest-2025-press-conference/
LOCATION:Harlingen Municipal Auditorium\, 1204 Fair Park Blvd.\, Harlingen\, TX\, 78550\, United States
ATTACH;FMTTYPE=image/png:https://visitharlingentexas.com/wp-content/uploads/2025/08/Riofest-PC-Invite.png
GEO:26.1999326;-97.7081063
X-APPLE-STRUCTURED-LOCATION;VALUE=URI;X-ADDRESS=Harlingen Municipal Auditorium 1204 Fair Park Blvd. Harlingen TX 78550 United States;X-APPLE-RADIUS=500;X-TITLE=1204 Fair Park Blvd.:geo:-97.7081063,26.1999326
END:VEVENT
BEGIN:VEVENT
DTSTART;TZID=America/Chicago:20250805T180000
DTEND;TZID=America/Chicago:20250805T210000
DTSTAMP:20260423T172446
CREATED:20250714T204116Z
LAST-MODIFIED:20250714T204116Z
UID:4464-1754416800-1754427600@visitharlingentexas.com
SUMMARY:National Night Out
DESCRIPTION:
URL:https://visitharlingentexas.com/event/national-night-out/
LOCATION:Lon C. Hill Park\, 1217 Fair Park Blvd\, Harlingen\, TX\, 78550\, United States
ATTACH;FMTTYPE=image/png:https://visitharlingentexas.com/wp-content/uploads/2025/07/flyer_2025_720.png
END:VEVENT
BEGIN:VEVENT
DTSTART;TZID=America/Chicago:20250731T173000
DTEND;TZID=America/Chicago:20250731T173000
DTSTAMP:20260423T172446
CREATED:20250714T202013Z
LAST-MODIFIED:20250714T202013Z
UID:4450-1753983000-1753983000@visitharlingentexas.com
SUMMARY:Masterpiece Makers (9-12 Yrs)
DESCRIPTION:3D Pearler Beads\nLocation: Children Area\nAge: Children
URL:https://visitharlingentexas.com/event/masterpiece-makers-9-12-yrs/
LOCATION:Harlingen Public Library\, 410 76 Dr.\, Harlingen\, TX\, 78550\, United States
ATTACH;FMTTYPE=image/png:https://visitharlingentexas.com/wp-content/uploads/2025/07/HPL.png
GEO:26.1969692;-97.688982
X-APPLE-STRUCTURED-LOCATION;VALUE=URI;X-ADDRESS=Harlingen Public Library 410 76 Dr. Harlingen TX 78550 United States;X-APPLE-RADIUS=500;X-TITLE=410 76 Dr.:geo:-97.688982,26.1969692
END:VEVENT
BEGIN:VEVENT
DTSTART;TZID=America/Chicago:20250731T140000
DTEND;TZID=America/Chicago:20250731T140000
DTSTAMP:20260423T172446
CREATED:20250714T200238Z
LAST-MODIFIED:20250714T200238Z
UID:4438-1753970400-1753970400@visitharlingentexas.com
SUMMARY:Ceramic Painting Class (13+)
DESCRIPTION:Location: Auditorium\nAge: 13+ Years Old\n*Registration Required*
URL:https://visitharlingentexas.com/event/ceramic-painting-class-13/
LOCATION:Harlingen Public Library\, 410 76 Dr.\, Harlingen\, TX\, 78550\, United States
ATTACH;FMTTYPE=image/png:https://visitharlingentexas.com/wp-content/uploads/2025/07/HPL.png
GEO:26.1969692;-97.688982
X-APPLE-STRUCTURED-LOCATION;VALUE=URI;X-ADDRESS=Harlingen Public Library 410 76 Dr. Harlingen TX 78550 United States;X-APPLE-RADIUS=500;X-TITLE=410 76 Dr.:geo:-97.688982,26.1969692
END:VEVENT
BEGIN:VEVENT
DTSTART;TZID=America/Chicago:20250731T100000
DTEND;TZID=America/Chicago:20250731T130000
DTSTAMP:20260423T172446
CREATED:20250714T201852Z
LAST-MODIFIED:20250714T201852Z
UID:4449-1753956000-1753966800@visitharlingentexas.com
SUMMARY:Milestone Trail with Easterseals
DESCRIPTION:Location: Auditorium\nAge: Children
URL:https://visitharlingentexas.com/event/milestone-trail-with-easterseals/
LOCATION:Harlingen Public Library\, 410 76 Dr.\, Harlingen\, TX\, 78550\, United States
ATTACH;FMTTYPE=image/png:https://visitharlingentexas.com/wp-content/uploads/2025/07/HPL.png
GEO:26.1969692;-97.688982
X-APPLE-STRUCTURED-LOCATION;VALUE=URI;X-ADDRESS=Harlingen Public Library 410 76 Dr. Harlingen TX 78550 United States;X-APPLE-RADIUS=500;X-TITLE=410 76 Dr.:geo:-97.688982,26.1969692
END:VEVENT
BEGIN:VEVENT
DTSTART;TZID=America/Chicago:20250730T183000
DTEND;TZID=America/Chicago:20250730T183000
DTSTAMP:20260423T172446
CREATED:20250714T201750Z
LAST-MODIFIED:20250714T201750Z
UID:4448-1753900200-1753900200@visitharlingentexas.com
SUMMARY:PJ Story Time
DESCRIPTION:Location: Children’s Area\nAge: Children
URL:https://visitharlingentexas.com/event/pj-story-time-2/
LOCATION:Harlingen Public Library\, 410 76 Dr.\, Harlingen\, TX\, 78550\, United States
ATTACH;FMTTYPE=image/png:https://visitharlingentexas.com/wp-content/uploads/2025/07/HPL.png
GEO:26.1969692;-97.688982
X-APPLE-STRUCTURED-LOCATION;VALUE=URI;X-ADDRESS=Harlingen Public Library 410 76 Dr. Harlingen TX 78550 United States;X-APPLE-RADIUS=500;X-TITLE=410 76 Dr.:geo:-97.688982,26.1969692
END:VEVENT
BEGIN:VEVENT
DTSTART;TZID=America/Chicago:20250730T140000
DTEND;TZID=America/Chicago:20250730T140000
DTSTAMP:20260423T172446
CREATED:20250714T202210Z
LAST-MODIFIED:20250714T202210Z
UID:4451-1753884000-1753884000@visitharlingentexas.com
SUMMARY:Ceramic Painting Class (8-12Yrs)
DESCRIPTION:Location: Auditorium\nAge: 8-12 Years Old\n*Registration Required*
URL:https://visitharlingentexas.com/event/ceramic-painting-class-8-12yrs/
LOCATION:Harlingen Public Library\, 410 76 Dr.\, Harlingen\, TX\, 78550\, United States
ATTACH;FMTTYPE=image/png:https://visitharlingentexas.com/wp-content/uploads/2025/07/HPL.png
GEO:26.1969692;-97.688982
X-APPLE-STRUCTURED-LOCATION;VALUE=URI;X-ADDRESS=Harlingen Public Library 410 76 Dr. Harlingen TX 78550 United States;X-APPLE-RADIUS=500;X-TITLE=410 76 Dr.:geo:-97.688982,26.1969692
END:VEVENT
BEGIN:VEVENT
DTSTART;TZID=America/Chicago:20250730T100000
DTEND;TZID=America/Chicago:20250730T120000
DTSTAMP:20260423T172446
CREATED:20250714T202613Z
LAST-MODIFIED:20250714T202613Z
UID:4454-1753869600-1753876800@visitharlingentexas.com
SUMMARY:Knifty Knitters
DESCRIPTION:Location: General\nAge: Adults
URL:https://visitharlingentexas.com/event/knifty-knitters-5/
LOCATION:Harlingen Public Library\, 410 76 Dr.\, Harlingen\, TX\, 78550\, United States
ATTACH;FMTTYPE=image/png:https://visitharlingentexas.com/wp-content/uploads/2025/07/HPL.png
GEO:26.1969692;-97.688982
X-APPLE-STRUCTURED-LOCATION;VALUE=URI;X-ADDRESS=Harlingen Public Library 410 76 Dr. Harlingen TX 78550 United States;X-APPLE-RADIUS=500;X-TITLE=410 76 Dr.:geo:-97.688982,26.1969692
END:VEVENT
BEGIN:VEVENT
DTSTART;TZID=America/Chicago:20250729T140000
DTEND;TZID=America/Chicago:20250729T160000
DTSTAMP:20260423T172446
CREATED:20250714T200124Z
LAST-MODIFIED:20250714T200124Z
UID:4437-1753797600-1753804800@visitharlingentexas.com
SUMMARY:Imagination Ignite: Scrap Game Design + Movie
DESCRIPTION:Location: Auditorium\nAge: Mixed Ages
URL:https://visitharlingentexas.com/event/imagination-ignite-scrap-game-design-movie/
LOCATION:Harlingen Public Library\, 410 76 Dr.\, Harlingen\, TX\, 78550\, United States
ATTACH;FMTTYPE=image/png:https://visitharlingentexas.com/wp-content/uploads/2025/07/HPL.png
GEO:26.1969692;-97.688982
X-APPLE-STRUCTURED-LOCATION;VALUE=URI;X-ADDRESS=Harlingen Public Library 410 76 Dr. Harlingen TX 78550 United States;X-APPLE-RADIUS=500;X-TITLE=410 76 Dr.:geo:-97.688982,26.1969692
END:VEVENT
BEGIN:VEVENT
DTSTART;TZID=America/Chicago:20250729T140000
DTEND;TZID=America/Chicago:20250729T160000
DTSTAMP:20260423T172446
CREATED:20250714T195221Z
LAST-MODIFIED:20250714T195221Z
UID:4431-1753797600-1753804800@visitharlingentexas.com
SUMMARY:Teen Volunteer Day
DESCRIPTION:Location: Teen Room\nAge: Teens\n*Must be registered for TAG*
URL:https://visitharlingentexas.com/event/teen-volunteer-day-7/
LOCATION:Harlingen Public Library\, 410 76 Dr.\, Harlingen\, TX\, 78550\, United States
ATTACH;FMTTYPE=image/png:https://visitharlingentexas.com/wp-content/uploads/2025/07/HPL.png
GEO:26.1969692;-97.688982
X-APPLE-STRUCTURED-LOCATION;VALUE=URI;X-ADDRESS=Harlingen Public Library 410 76 Dr. Harlingen TX 78550 United States;X-APPLE-RADIUS=500;X-TITLE=410 76 Dr.:geo:-97.688982,26.1969692
END:VEVENT
END:VCALENDAR