BEGIN:VCALENDAR
VERSION:2.0
PRODID:-//Visit Harlingen, Texas - ECPv6.15.20//NONSGML v1.0//EN
CALSCALE:GREGORIAN
METHOD:PUBLISH
X-WR-CALNAME:Visit Harlingen, Texas
X-ORIGINAL-URL:https://visitharlingentexas.com
X-WR-CALDESC:Events for Visit Harlingen, Texas
REFRESH-INTERVAL;VALUE=DURATION:PT1H
X-Robots-Tag:noindex
X-PUBLISHED-TTL:PT1H
BEGIN:VTIMEZONE
TZID:America/Chicago
BEGIN:DAYLIGHT
TZOFFSETFROM:-0600
TZOFFSETTO:-0500
TZNAME:CDT
DTSTART:20250309T080000
END:DAYLIGHT
BEGIN:STANDARD
TZOFFSETFROM:-0500
TZOFFSETTO:-0600
TZNAME:CST
DTSTART:20251102T070000
END:STANDARD
BEGIN:DAYLIGHT
TZOFFSETFROM:-0600
TZOFFSETTO:-0500
TZNAME:CDT
DTSTART:20260308T080000
END:DAYLIGHT
BEGIN:STANDARD
TZOFFSETFROM:-0500
TZOFFSETTO:-0600
TZNAME:CST
DTSTART:20261101T070000
END:STANDARD
BEGIN:DAYLIGHT
TZOFFSETFROM:-0600
TZOFFSETTO:-0500
TZNAME:CDT
DTSTART:20270314T080000
END:DAYLIGHT
BEGIN:STANDARD
TZOFFSETFROM:-0500
TZOFFSETTO:-0600
TZNAME:CST
DTSTART:20271107T070000
END:STANDARD
END:VTIMEZONE
BEGIN:VEVENT
DTSTART;TZID=America/Chicago:20260216T170000
DTEND;TZID=America/Chicago:20260216T170000
DTSTAMP:20260423T202059
CREATED:20260126T234318Z
LAST-MODIFIED:20260126T234318Z
UID:4655-1771261200-1771261200@visitharlingentexas.com
SUMMARY:Teen Advisory Group Meeting (12+) Teen Rm
DESCRIPTION:Must Be Registered
URL:https://visitharlingentexas.com/event/teen-advisory-group-meeting-12-teen-rm/
LOCATION:Harlingen Public Library\, 410 76 Dr.\, Harlingen\, TX\, 78550\, United States
ATTACH;FMTTYPE=image/png:https://visitharlingentexas.com/wp-content/uploads/2025/07/HPL.png
GEO:26.1969692;-97.688982
X-APPLE-STRUCTURED-LOCATION;VALUE=URI;X-ADDRESS=Harlingen Public Library 410 76 Dr. Harlingen TX 78550 United States;X-APPLE-RADIUS=500;X-TITLE=410 76 Dr.:geo:-97.688982,26.1969692
END:VEVENT
BEGIN:VEVENT
DTSTART;TZID=America/Chicago:20260216T173000
DTEND;TZID=America/Chicago:20260216T193000
DTSTAMP:20260423T202059
CREATED:20260126T234551Z
LAST-MODIFIED:20260126T234551Z
UID:4656-1771263000-1771270200@visitharlingentexas.com
SUMMARY:Teen Craft Day 12+ (Courtyard)
DESCRIPTION:Tie Dye Tote Bag
URL:https://visitharlingentexas.com/event/teen-craft-day-12-courtyard/
LOCATION:Harlingen Public Library\, 410 76 Dr.\, Harlingen\, TX\, 78550\, United States
ATTACH;FMTTYPE=image/png:https://visitharlingentexas.com/wp-content/uploads/2025/07/HPL.png
GEO:26.1969692;-97.688982
X-APPLE-STRUCTURED-LOCATION;VALUE=URI;X-ADDRESS=Harlingen Public Library 410 76 Dr. Harlingen TX 78550 United States;X-APPLE-RADIUS=500;X-TITLE=410 76 Dr.:geo:-97.688982,26.1969692
END:VEVENT
BEGIN:VEVENT
DTSTART;TZID=America/Chicago:20260217T100000
DTEND;TZID=America/Chicago:20260217T140000
DTSTAMP:20260423T202059
CREATED:20260126T233248Z
LAST-MODIFIED:20260126T233248Z
UID:4637-1771322400-1771336800@visitharlingentexas.com
SUMMARY:Stitching Friends (Gen)
DESCRIPTION:
URL:https://visitharlingentexas.com/event/stitching-friends-gen-2/2026-02-17/
LOCATION:Harlingen Public Library\, 410 76 Dr.\, Harlingen\, TX\, 78550\, United States
ATTACH;FMTTYPE=image/png:https://visitharlingentexas.com/wp-content/uploads/2025/07/HPL.png
GEO:26.1969692;-97.688982
X-APPLE-STRUCTURED-LOCATION;VALUE=URI;X-ADDRESS=Harlingen Public Library 410 76 Dr. Harlingen TX 78550 United States;X-APPLE-RADIUS=500;X-TITLE=410 76 Dr.:geo:-97.688982,26.1969692
END:VEVENT
BEGIN:VEVENT
DTSTART;TZID=America/Chicago:20260217T103000
DTEND;TZID=America/Chicago:20260217T110000
DTSTAMP:20260423T202059
CREATED:20260126T233412Z
LAST-MODIFIED:20260126T233412Z
UID:4640-1771324200-1771326000@visitharlingentexas.com
SUMMARY:Story Time
DESCRIPTION:
URL:https://visitharlingentexas.com/event/story-time-2/2026-02-17/
LOCATION:Harlingen Public Library\, 410 76 Dr.\, Harlingen\, TX\, 78550\, United States
ATTACH;FMTTYPE=image/png:https://visitharlingentexas.com/wp-content/uploads/2025/07/HPL.png
GEO:26.1969692;-97.688982
X-APPLE-STRUCTURED-LOCATION;VALUE=URI;X-ADDRESS=Harlingen Public Library 410 76 Dr. Harlingen TX 78550 United States;X-APPLE-RADIUS=500;X-TITLE=410 76 Dr.:geo:-97.688982,26.1969692
END:VEVENT
BEGIN:VEVENT
DTSTART;TZID=America/Chicago:20260217T180000
DTEND;TZID=America/Chicago:20260217T194500
DTSTAMP:20260423T202059
CREATED:20260126T234645Z
LAST-MODIFIED:20260126T234645Z
UID:4657-1771351200-1771357500@visitharlingentexas.com
SUMMARY:Poetry Night (Aud.)
DESCRIPTION:
URL:https://visitharlingentexas.com/event/poetry-night-aud/
LOCATION:Harlingen Public Library\, 410 76 Dr.\, Harlingen\, TX\, 78550\, United States
ATTACH;FMTTYPE=image/png:https://visitharlingentexas.com/wp-content/uploads/2025/07/HPL.png
GEO:26.1969692;-97.688982
X-APPLE-STRUCTURED-LOCATION;VALUE=URI;X-ADDRESS=Harlingen Public Library 410 76 Dr. Harlingen TX 78550 United States;X-APPLE-RADIUS=500;X-TITLE=410 76 Dr.:geo:-97.688982,26.1969692
END:VEVENT
BEGIN:VEVENT
DTSTART;TZID=America/Chicago:20260218T100000
DTEND;TZID=America/Chicago:20260218T130000
DTSTAMP:20260423T202059
CREATED:20260126T233707Z
LAST-MODIFIED:20260126T233707Z
UID:4644-1771408800-1771419600@visitharlingentexas.com
SUMMARY:Knifty Knitters (Gen.)
DESCRIPTION:
URL:https://visitharlingentexas.com/event/knifty-knitters-gen-2/2026-02-18/
LOCATION:Harlingen Public Library\, 410 76 Dr.\, Harlingen\, TX\, 78550\, United States
ATTACH;FMTTYPE=image/png:https://visitharlingentexas.com/wp-content/uploads/2025/07/HPL.png
GEO:26.1969692;-97.688982
X-APPLE-STRUCTURED-LOCATION;VALUE=URI;X-ADDRESS=Harlingen Public Library 410 76 Dr. Harlingen TX 78550 United States;X-APPLE-RADIUS=500;X-TITLE=410 76 Dr.:geo:-97.688982,26.1969692
END:VEVENT
BEGIN:VEVENT
DTSTART;TZID=America/Chicago:20260218T183000
DTEND;TZID=America/Chicago:20260218T190000
DTSTAMP:20260423T202059
CREATED:20260126T233818Z
LAST-MODIFIED:20260126T233818Z
UID:4648-1771439400-1771441200@visitharlingentexas.com
SUMMARY:PJ Story Time
DESCRIPTION:
URL:https://visitharlingentexas.com/event/pj-story-time-4/2026-02-18/
LOCATION:Harlingen Public Library\, 410 76 Dr.\, Harlingen\, TX\, 78550\, United States
ATTACH;FMTTYPE=image/png:https://visitharlingentexas.com/wp-content/uploads/2025/07/HPL.png
GEO:26.1969692;-97.688982
X-APPLE-STRUCTURED-LOCATION;VALUE=URI;X-ADDRESS=Harlingen Public Library 410 76 Dr. Harlingen TX 78550 United States;X-APPLE-RADIUS=500;X-TITLE=410 76 Dr.:geo:-97.688982,26.1969692
END:VEVENT
BEGIN:VEVENT
DTSTART;TZID=America/Chicago:20260219T103000
DTEND;TZID=America/Chicago:20260219T114500
DTSTAMP:20260423T202059
CREATED:20260126T233955Z
LAST-MODIFIED:20260126T233955Z
UID:4651-1771497000-1771501500@visitharlingentexas.com
SUMMARY:Parent Child Workshop (Aud)
DESCRIPTION:
URL:https://visitharlingentexas.com/event/parent-child-workshop-aud/2026-02-19/
LOCATION:Harlingen Public Library\, 410 76 Dr.\, Harlingen\, TX\, 78550\, United States
ATTACH;FMTTYPE=image/png:https://visitharlingentexas.com/wp-content/uploads/2025/07/HPL.png
GEO:26.1969692;-97.688982
X-APPLE-STRUCTURED-LOCATION;VALUE=URI;X-ADDRESS=Harlingen Public Library 410 76 Dr. Harlingen TX 78550 United States;X-APPLE-RADIUS=500;X-TITLE=410 76 Dr.:geo:-97.688982,26.1969692
END:VEVENT
BEGIN:VEVENT
DTSTART;TZID=America/Chicago:20260220T150000
DTEND;TZID=America/Chicago:20260220T163000
DTSTAMP:20260423T202059
CREATED:20260126T234751Z
LAST-MODIFIED:20260126T234805Z
UID:4658-1771599600-1771605000@visitharlingentexas.com
SUMMARY:Friday Crafternoon: Pie Craft
DESCRIPTION:
URL:https://visitharlingentexas.com/event/friday-crafternoon-pie-craft/
LOCATION:Harlingen Public Library\, 410 76 Dr.\, Harlingen\, TX\, 78550\, United States
ATTACH;FMTTYPE=image/png:https://visitharlingentexas.com/wp-content/uploads/2025/07/HPL.png
GEO:26.1969692;-97.688982
X-APPLE-STRUCTURED-LOCATION;VALUE=URI;X-ADDRESS=Harlingen Public Library 410 76 Dr. Harlingen TX 78550 United States;X-APPLE-RADIUS=500;X-TITLE=410 76 Dr.:geo:-97.688982,26.1969692
END:VEVENT
BEGIN:VEVENT
DTSTART;TZID=America/Chicago:20260221T080000
DTEND;TZID=America/Chicago:20260221T080000
DTSTAMP:20260423T202059
CREATED:20260218T163318Z
LAST-MODIFIED:20260218T163318Z
UID:4680-1771660800-1771660800@visitharlingentexas.com
SUMMARY:4th Annual RGV 5K Fun Run & Walk
DESCRIPTION:
URL:https://visitharlingentexas.com/event/4th-annual-rgv-5k-fun-run-walk/
LOCATION:Harlingen Arroyo Park\, East New Hampshire Street\, Harlingen\, TX\, 78550\, United States
ATTACH;FMTTYPE=image/jpeg:https://visitharlingentexas.com/wp-content/uploads/2026/02/5kFunRunWalk.jpg
GEO:26.1717757;-97.684996
X-APPLE-STRUCTURED-LOCATION;VALUE=URI;X-ADDRESS=Harlingen Arroyo Park East New Hampshire Street Harlingen TX 78550 United States;X-APPLE-RADIUS=500;X-TITLE=East New Hampshire Street:geo:-97.684996,26.1717757
END:VEVENT
BEGIN:VEVENT
DTSTART;TZID=America/Chicago:20260221T080000
DTEND;TZID=America/Chicago:20260221T120000
DTSTAMP:20260423T202059
CREATED:20260218T163119Z
LAST-MODIFIED:20260218T163119Z
UID:4678-1771660800-1771675200@visitharlingentexas.com
SUMMARY:District One Trash Bash
DESCRIPTION:
URL:https://visitharlingentexas.com/event/district-one-trash-bash/
LOCATION:Pendleton Park\, 1427 Morgan Blvd\, Harlingen\, TX\, 78550\, United States
ATTACH;FMTTYPE=image/jpeg:https://visitharlingentexas.com/wp-content/uploads/2026/02/TrashBash.jpg
END:VEVENT
BEGIN:VEVENT
DTSTART;TZID=America/Chicago:20260222T140000
DTEND;TZID=America/Chicago:20260222T160000
DTSTAMP:20260423T202059
CREATED:20260126T234918Z
LAST-MODIFIED:20260126T234918Z
UID:4659-1771768800-1771776000@visitharlingentexas.com
SUMMARY:Teen Karaoke Afternoon (Aud.)
DESCRIPTION:
URL:https://visitharlingentexas.com/event/teen-karaoke-afternoon-aud/
LOCATION:Harlingen Public Library\, 410 76 Dr.\, Harlingen\, TX\, 78550\, United States
ATTACH;FMTTYPE=image/png:https://visitharlingentexas.com/wp-content/uploads/2025/07/HPL.png
GEO:26.1969692;-97.688982
X-APPLE-STRUCTURED-LOCATION;VALUE=URI;X-ADDRESS=Harlingen Public Library 410 76 Dr. Harlingen TX 78550 United States;X-APPLE-RADIUS=500;X-TITLE=410 76 Dr.:geo:-97.688982,26.1969692
END:VEVENT
BEGIN:VEVENT
DTSTART;TZID=America/Chicago:20260224T000000
DTEND;TZID=America/Chicago:20260224T000000
DTSTAMP:20260423T202059
CREATED:20260218T163645Z
LAST-MODIFIED:20260218T163645Z
UID:4686-1771891200-1771891200@visitharlingentexas.com
SUMMARY:SAVE THE DATE: GQ
DESCRIPTION:
URL:https://visitharlingentexas.com/event/save-the-date-gq/
LOCATION:TX
ATTACH;FMTTYPE=image/jpeg:https://visitharlingentexas.com/wp-content/uploads/2026/02/GQ-HarlingenConcert.jpg
END:VEVENT
BEGIN:VEVENT
DTSTART;TZID=America/Chicago:20260224T100000
DTEND;TZID=America/Chicago:20260224T140000
DTSTAMP:20260423T202059
CREATED:20260126T233248Z
LAST-MODIFIED:20260126T233248Z
UID:4638-1771927200-1771941600@visitharlingentexas.com
SUMMARY:Stitching Friends (Gen)
DESCRIPTION:
URL:https://visitharlingentexas.com/event/stitching-friends-gen-2/2026-02-24/
LOCATION:Harlingen Public Library\, 410 76 Dr.\, Harlingen\, TX\, 78550\, United States
ATTACH;FMTTYPE=image/png:https://visitharlingentexas.com/wp-content/uploads/2025/07/HPL.png
GEO:26.1969692;-97.688982
X-APPLE-STRUCTURED-LOCATION;VALUE=URI;X-ADDRESS=Harlingen Public Library 410 76 Dr. Harlingen TX 78550 United States;X-APPLE-RADIUS=500;X-TITLE=410 76 Dr.:geo:-97.688982,26.1969692
END:VEVENT
BEGIN:VEVENT
DTSTART;TZID=America/Chicago:20260224T103000
DTEND;TZID=America/Chicago:20260224T110000
DTSTAMP:20260423T202059
CREATED:20260126T233412Z
LAST-MODIFIED:20260126T233412Z
UID:4641-1771929000-1771930800@visitharlingentexas.com
SUMMARY:Story Time
DESCRIPTION:
URL:https://visitharlingentexas.com/event/story-time-2/2026-02-24/
LOCATION:Harlingen Public Library\, 410 76 Dr.\, Harlingen\, TX\, 78550\, United States
ATTACH;FMTTYPE=image/png:https://visitharlingentexas.com/wp-content/uploads/2025/07/HPL.png
GEO:26.1969692;-97.688982
X-APPLE-STRUCTURED-LOCATION;VALUE=URI;X-ADDRESS=Harlingen Public Library 410 76 Dr. Harlingen TX 78550 United States;X-APPLE-RADIUS=500;X-TITLE=410 76 Dr.:geo:-97.688982,26.1969692
END:VEVENT
BEGIN:VEVENT
DTSTART;TZID=America/Chicago:20260225T100000
DTEND;TZID=America/Chicago:20260225T130000
DTSTAMP:20260423T202059
CREATED:20260126T233707Z
LAST-MODIFIED:20260126T233707Z
UID:4645-1772013600-1772024400@visitharlingentexas.com
SUMMARY:Knifty Knitters (Gen.)
DESCRIPTION:
URL:https://visitharlingentexas.com/event/knifty-knitters-gen-2/2026-02-25/
LOCATION:Harlingen Public Library\, 410 76 Dr.\, Harlingen\, TX\, 78550\, United States
ATTACH;FMTTYPE=image/png:https://visitharlingentexas.com/wp-content/uploads/2025/07/HPL.png
GEO:26.1969692;-97.688982
X-APPLE-STRUCTURED-LOCATION;VALUE=URI;X-ADDRESS=Harlingen Public Library 410 76 Dr. Harlingen TX 78550 United States;X-APPLE-RADIUS=500;X-TITLE=410 76 Dr.:geo:-97.688982,26.1969692
END:VEVENT
BEGIN:VEVENT
DTSTART;TZID=America/Chicago:20260225T130000
DTEND;TZID=America/Chicago:20260225T150000
DTSTAMP:20260423T202059
CREATED:20260126T235015Z
LAST-MODIFIED:20260126T235015Z
UID:4660-1772024400-1772031600@visitharlingentexas.com
SUMMARY:Homeschool Social Hour
DESCRIPTION:
URL:https://visitharlingentexas.com/event/homeschool-social-hour/
LOCATION:Harlingen Public Library\, 410 76 Dr.\, Harlingen\, TX\, 78550\, United States
ATTACH;FMTTYPE=image/png:https://visitharlingentexas.com/wp-content/uploads/2025/07/HPL.png
GEO:26.1969692;-97.688982
X-APPLE-STRUCTURED-LOCATION;VALUE=URI;X-ADDRESS=Harlingen Public Library 410 76 Dr. Harlingen TX 78550 United States;X-APPLE-RADIUS=500;X-TITLE=410 76 Dr.:geo:-97.688982,26.1969692
END:VEVENT
BEGIN:VEVENT
DTSTART;TZID=America/Chicago:20260225T170000
DTEND;TZID=America/Chicago:20260225T183000
DTSTAMP:20260423T202059
CREATED:20260126T235110Z
LAST-MODIFIED:20260126T235110Z
UID:4661-1772038800-1772044200@visitharlingentexas.com
SUMMARY:HCISD ACE Family Literacy Night (Aud)
DESCRIPTION:
URL:https://visitharlingentexas.com/event/hcisd-ace-family-literacy-night-aud/
LOCATION:Harlingen Public Library\, 410 76 Dr.\, Harlingen\, TX\, 78550\, United States
ATTACH;FMTTYPE=image/png:https://visitharlingentexas.com/wp-content/uploads/2025/07/HPL.png
GEO:26.1969692;-97.688982
X-APPLE-STRUCTURED-LOCATION;VALUE=URI;X-ADDRESS=Harlingen Public Library 410 76 Dr. Harlingen TX 78550 United States;X-APPLE-RADIUS=500;X-TITLE=410 76 Dr.:geo:-97.688982,26.1969692
END:VEVENT
BEGIN:VEVENT
DTSTART;TZID=America/Chicago:20260225T183000
DTEND;TZID=America/Chicago:20260225T190000
DTSTAMP:20260423T202059
CREATED:20260126T233818Z
LAST-MODIFIED:20260126T233818Z
UID:4649-1772044200-1772046000@visitharlingentexas.com
SUMMARY:PJ Story Time
DESCRIPTION:
URL:https://visitharlingentexas.com/event/pj-story-time-4/2026-02-25/
LOCATION:Harlingen Public Library\, 410 76 Dr.\, Harlingen\, TX\, 78550\, United States
ATTACH;FMTTYPE=image/png:https://visitharlingentexas.com/wp-content/uploads/2025/07/HPL.png
GEO:26.1969692;-97.688982
X-APPLE-STRUCTURED-LOCATION;VALUE=URI;X-ADDRESS=Harlingen Public Library 410 76 Dr. Harlingen TX 78550 United States;X-APPLE-RADIUS=500;X-TITLE=410 76 Dr.:geo:-97.688982,26.1969692
END:VEVENT
BEGIN:VEVENT
DTSTART;TZID=America/Chicago:20260226T103000
DTEND;TZID=America/Chicago:20260226T114500
DTSTAMP:20260423T202059
CREATED:20260126T233955Z
LAST-MODIFIED:20260126T233955Z
UID:4652-1772101800-1772106300@visitharlingentexas.com
SUMMARY:Parent Child Workshop (Aud)
DESCRIPTION:
URL:https://visitharlingentexas.com/event/parent-child-workshop-aud/2026-02-26/
LOCATION:Harlingen Public Library\, 410 76 Dr.\, Harlingen\, TX\, 78550\, United States
ATTACH;FMTTYPE=image/png:https://visitharlingentexas.com/wp-content/uploads/2025/07/HPL.png
GEO:26.1969692;-97.688982
X-APPLE-STRUCTURED-LOCATION;VALUE=URI;X-ADDRESS=Harlingen Public Library 410 76 Dr. Harlingen TX 78550 United States;X-APPLE-RADIUS=500;X-TITLE=410 76 Dr.:geo:-97.688982,26.1969692
END:VEVENT
BEGIN:VEVENT
DTSTART;TZID=America/Chicago:20260226T180000
DTEND;TZID=America/Chicago:20260226T190000
DTSTAMP:20260423T202059
CREATED:20260126T235246Z
LAST-MODIFIED:20260126T235246Z
UID:4662-1772128800-1772132400@visitharlingentexas.com
SUMMARY:Parent Craft Club (Age 9-12)
DESCRIPTION:Notan Paper Cutting
URL:https://visitharlingentexas.com/event/parent-craft-club-age-9-12/
LOCATION:Harlingen Public Library\, 410 76 Dr.\, Harlingen\, TX\, 78550\, United States
ATTACH;FMTTYPE=image/png:https://visitharlingentexas.com/wp-content/uploads/2025/07/HPL.png
GEO:26.1969692;-97.688982
X-APPLE-STRUCTURED-LOCATION;VALUE=URI;X-ADDRESS=Harlingen Public Library 410 76 Dr. Harlingen TX 78550 United States;X-APPLE-RADIUS=500;X-TITLE=410 76 Dr.:geo:-97.688982,26.1969692
END:VEVENT
BEGIN:VEVENT
DTSTART;TZID=America/Chicago:20260226T193000
DTEND;TZID=America/Chicago:20260226T193000
DTSTAMP:20260423T202059
CREATED:20250815T190908Z
LAST-MODIFIED:20250815T190908Z
UID:4529-1772134200-1772134200@visitharlingentexas.com
SUMMARY:GQ (Gentlemen's Quartet)
DESCRIPTION:
URL:https://visitharlingentexas.com/event/gq-gentlemens-quartet/
LOCATION:Christian Fellowship Church\, North Loop 499\, Harlingen\, Texas\, 78550\, United States
ATTACH;FMTTYPE=image/jpeg:https://visitharlingentexas.com/wp-content/uploads/2025/08/HarlingenConcertAssociation.jpg
GEO:26.222212;-97.6853716
X-APPLE-STRUCTURED-LOCATION;VALUE=URI;X-ADDRESS=Christian Fellowship Church North Loop 499 Harlingen Texas 78550 United States;X-APPLE-RADIUS=500;X-TITLE=North Loop 499:geo:-97.6853716,26.222212
END:VEVENT
BEGIN:VEVENT
DTSTART;TZID=America/Chicago:20260227T150000
DTEND;TZID=America/Chicago:20260227T163000
DTSTAMP:20260423T202059
CREATED:20260126T235344Z
LAST-MODIFIED:20260126T235344Z
UID:4663-1772204400-1772209800@visitharlingentexas.com
SUMMARY:Friday Crafternoon: Open Craft
DESCRIPTION:
URL:https://visitharlingentexas.com/event/friday-crafternoon-open-craft/
LOCATION:Harlingen Public Library\, 410 76 Dr.\, Harlingen\, TX\, 78550\, United States
ATTACH;FMTTYPE=image/png:https://visitharlingentexas.com/wp-content/uploads/2025/07/HPL.png
GEO:26.1969692;-97.688982
X-APPLE-STRUCTURED-LOCATION;VALUE=URI;X-ADDRESS=Harlingen Public Library 410 76 Dr. Harlingen TX 78550 United States;X-APPLE-RADIUS=500;X-TITLE=410 76 Dr.:geo:-97.688982,26.1969692
END:VEVENT
BEGIN:VEVENT
DTSTART;TZID=America/Chicago:20260307T080000
DTEND;TZID=America/Chicago:20260308T000000
DTSTAMP:20260423T202059
CREATED:20260218T163828Z
LAST-MODIFIED:20260218T163849Z
UID:4688-1772870400-1772928000@visitharlingentexas.com
SUMMARY:35th Annual Jalapeno 100 Bike Ride
DESCRIPTION:
URL:https://visitharlingentexas.com/event/35th-annual-jalapeno-100-bike-ride/
LOCATION:TX
ATTACH;FMTTYPE=image/jpeg:https://visitharlingentexas.com/wp-content/uploads/2026/02/Jalapeno100Race.jpg
END:VEVENT
BEGIN:VEVENT
DTSTART;TZID=America/Chicago:20260313T180000
DTEND;TZID=America/Chicago:20260313T220000
DTSTAMP:20260423T202059
CREATED:20260218T164004Z
LAST-MODIFIED:20260218T164004Z
UID:4690-1773424800-1773439200@visitharlingentexas.com
SUMMARY:Sham-Rock the Park
DESCRIPTION:
URL:https://visitharlingentexas.com/event/sham-rock-the-park/
LOCATION:Lon C. Hill Park\, 1217 Fair Park Blvd\, Harlingen\, TX\, 78550\, United States
ATTACH;FMTTYPE=image/jpeg:https://visitharlingentexas.com/wp-content/uploads/2026/02/ShamrakThePark.jpg
END:VEVENT
BEGIN:VEVENT
DTSTART;TZID=America/Chicago:20260314T080000
DTEND;TZID=America/Chicago:20260314T130000
DTSTAMP:20260423T202059
CREATED:20260218T163419Z
LAST-MODIFIED:20260218T163419Z
UID:4682-1773475200-1773493200@visitharlingentexas.com
SUMMARY:Annual Golf Tournament
DESCRIPTION:
URL:https://visitharlingentexas.com/event/annual-golf-tournament/
LOCATION:Tony Butler Golf Course\, 2640 S. M St.\, Harlingen\, TX\, 78552\, United States
ATTACH;FMTTYPE=image/jpeg:https://visitharlingentexas.com/wp-content/uploads/2026/02/TonyButler-Golf-Tournament.jpg
END:VEVENT
BEGIN:VEVENT
DTSTART;TZID=America/Chicago:20260321T173000
DTEND;TZID=America/Chicago:20260321T203000
DTSTAMP:20260423T202059
CREATED:20260218T163540Z
LAST-MODIFIED:20260218T163540Z
UID:4684-1774114200-1774125000@visitharlingentexas.com
SUMMARY:30th Annual Rotary Shrimp Fest
DESCRIPTION:
URL:https://visitharlingentexas.com/event/30th-annual-rotary-shrimp-fest/
LOCATION:Casa de Amistad\, 1204 Fair Park Blvd.\, Harlingen\, TX\, 78550\, United States
ATTACH;FMTTYPE=image/jpeg:https://visitharlingentexas.com/wp-content/uploads/2026/02/RotaryShrimpFest.jpg
END:VEVENT
BEGIN:VEVENT
DTSTART;TZID=America/Chicago:20260321T190000
DTEND;TZID=America/Chicago:20260321T220000
DTSTAMP:20260423T202059
CREATED:20260130T144317Z
LAST-MODIFIED:20260309T163329Z
UID:4667-1774119600-1774130400@visitharlingentexas.com
SUMMARY:Downtown at Sundown
DESCRIPTION:
URL:https://visitharlingentexas.com/event/downtown-at-sundown-7/
LOCATION:Lozano Plaza & Jackson Ave\, Lozano Plaza & Jackson Ave\, Harlingen\, 78550\, United States
ATTACH;FMTTYPE=image/jpeg:https://visitharlingentexas.com/wp-content/uploads/2026/01/DowntownSundown32126.jpg
END:VEVENT
BEGIN:VEVENT
DTSTART;TZID=America/Chicago:20260410T080000
DTEND;TZID=America/Chicago:20260411T170000
DTSTAMP:20260423T202059
CREATED:20260309T165054Z
LAST-MODIFIED:20260309T165054Z
UID:4710-1775808000-1775926800@visitharlingentexas.com
SUMMARY:Save the Date: 10th Anniversary Texas Best
DESCRIPTION:s
URL:https://visitharlingentexas.com/event/save-the-date-10th-anniversary-texas-best/
LOCATION:Harlingen Municipal Auditorium\, 1204 Fair Park Blvd.\, Harlingen\, TX\, 78550\, United States
ATTACH;FMTTYPE=image/png:https://visitharlingentexas.com/wp-content/uploads/2026/03/SaveTheDate.png
GEO:26.1999326;-97.7081063
X-APPLE-STRUCTURED-LOCATION;VALUE=URI;X-ADDRESS=Harlingen Municipal Auditorium 1204 Fair Park Blvd. Harlingen TX 78550 United States;X-APPLE-RADIUS=500;X-TITLE=1204 Fair Park Blvd.:geo:-97.7081063,26.1999326
END:VEVENT
BEGIN:VEVENT
DTSTART;TZID=America/Chicago:20260411T080000
DTEND;TZID=America/Chicago:20260411T110000
DTSTAMP:20260423T202059
CREATED:20260309T163714Z
LAST-MODIFIED:20260309T163714Z
UID:4697-1775894400-1775905200@visitharlingentexas.com
SUMMARY:JLH Presents: Kid Fit
DESCRIPTION:
URL:https://visitharlingentexas.com/event/jlh-presents-kid-fit/
LOCATION:Lon C. Hill Park\, 1217 Fair Park Blvd\, Harlingen\, TX\, 78550\, United States
ATTACH;FMTTYPE=image/jpeg:https://visitharlingentexas.com/wp-content/uploads/2026/03/KidFit.jpg
END:VEVENT
END:VCALENDAR