BEGIN:VCALENDAR
VERSION:2.0
PRODID:-//Visit Harlingen, Texas - ECPv6.15.20//NONSGML v1.0//EN
CALSCALE:GREGORIAN
METHOD:PUBLISH
X-WR-CALNAME:Visit Harlingen, Texas
X-ORIGINAL-URL:https://visitharlingentexas.com
X-WR-CALDESC:Events for Visit Harlingen, Texas
REFRESH-INTERVAL;VALUE=DURATION:PT1H
X-Robots-Tag:noindex
X-PUBLISHED-TTL:PT1H
BEGIN:VTIMEZONE
TZID:America/Chicago
BEGIN:DAYLIGHT
TZOFFSETFROM:-0600
TZOFFSETTO:-0500
TZNAME:CDT
DTSTART:20180311T080000
END:DAYLIGHT
BEGIN:STANDARD
TZOFFSETFROM:-0500
TZOFFSETTO:-0600
TZNAME:CST
DTSTART:20181104T070000
END:STANDARD
BEGIN:DAYLIGHT
TZOFFSETFROM:-0600
TZOFFSETTO:-0500
TZNAME:CDT
DTSTART:20190310T080000
END:DAYLIGHT
BEGIN:STANDARD
TZOFFSETFROM:-0500
TZOFFSETTO:-0600
TZNAME:CST
DTSTART:20191103T070000
END:STANDARD
BEGIN:DAYLIGHT
TZOFFSETFROM:-0600
TZOFFSETTO:-0500
TZNAME:CDT
DTSTART:20200308T080000
END:DAYLIGHT
BEGIN:STANDARD
TZOFFSETFROM:-0500
TZOFFSETTO:-0600
TZNAME:CST
DTSTART:20201101T070000
END:STANDARD
BEGIN:DAYLIGHT
TZOFFSETFROM:-0600
TZOFFSETTO:-0500
TZNAME:CDT
DTSTART:20210314T080000
END:DAYLIGHT
BEGIN:STANDARD
TZOFFSETFROM:-0500
TZOFFSETTO:-0600
TZNAME:CST
DTSTART:20211107T070000
END:STANDARD
BEGIN:DAYLIGHT
TZOFFSETFROM:-0600
TZOFFSETTO:-0500
TZNAME:CDT
DTSTART:20220313T080000
END:DAYLIGHT
BEGIN:STANDARD
TZOFFSETFROM:-0500
TZOFFSETTO:-0600
TZNAME:CST
DTSTART:20221106T070000
END:STANDARD
BEGIN:DAYLIGHT
TZOFFSETFROM:-0600
TZOFFSETTO:-0500
TZNAME:CDT
DTSTART:20230312T080000
END:DAYLIGHT
BEGIN:STANDARD
TZOFFSETFROM:-0500
TZOFFSETTO:-0600
TZNAME:CST
DTSTART:20231105T070000
END:STANDARD
BEGIN:DAYLIGHT
TZOFFSETFROM:-0600
TZOFFSETTO:-0500
TZNAME:CDT
DTSTART:20240310T080000
END:DAYLIGHT
BEGIN:STANDARD
TZOFFSETFROM:-0500
TZOFFSETTO:-0600
TZNAME:CST
DTSTART:20241103T070000
END:STANDARD
BEGIN:DAYLIGHT
TZOFFSETFROM:-0600
TZOFFSETTO:-0500
TZNAME:CDT
DTSTART:20250309T080000
END:DAYLIGHT
BEGIN:STANDARD
TZOFFSETFROM:-0500
TZOFFSETTO:-0600
TZNAME:CST
DTSTART:20251102T070000
END:STANDARD
BEGIN:DAYLIGHT
TZOFFSETFROM:-0600
TZOFFSETTO:-0500
TZNAME:CDT
DTSTART:20260308T080000
END:DAYLIGHT
BEGIN:STANDARD
TZOFFSETFROM:-0500
TZOFFSETTO:-0600
TZNAME:CST
DTSTART:20261101T070000
END:STANDARD
END:VTIMEZONE
BEGIN:VEVENT
DTSTART;TZID=America/Chicago:20250524T193000
DTEND;TZID=America/Chicago:20250524T193000
DTSTAMP:20260420T064914
CREATED:20250523T211315Z
LAST-MODIFIED:20250523T211315Z
UID:4346-1748115000-1748115000@visitharlingentexas.com
SUMMARY:RGV Red Crown Game
DESCRIPTION:
URL:https://visitharlingentexas.com/event/rgv-red-crown-game/
LOCATION:Harlingen Field\, 1216 Fair Park Blvd\, Harlingen\, TX\, 78550\, United States
ATTACH;FMTTYPE=image/png:https://visitharlingentexas.com/wp-content/uploads/2025/05/RGV_Crest1.png
END:VEVENT
BEGIN:VEVENT
DTSTART;TZID=America/Chicago:20230317T183000
DTEND;TZID=America/Chicago:20230317T223000
DTSTAMP:20260420T064914
CREATED:20230228T214747Z
LAST-MODIFIED:20230228T214747Z
UID:3208-1679077800-1679092200@visitharlingentexas.com
SUMMARY:Lager Jogger 5k
DESCRIPTION:Join us for our very first St. Patrick’s Day Lager Jogger 5K! The race will start at Harlingen Field (1216 Fair Park Blvd\, Harlingen) at 6:30pm and we’ll head on over to Harlingen Field for Live Music\, food and fun for the whole family!
URL:https://visitharlingentexas.com/event/lager-jogger-5k/
LOCATION:Harlingen Field\, 1216 Fair Park Blvd\, Harlingen\, TX\, 78550\, United States
ATTACH;FMTTYPE=image/jpeg:https://visitharlingentexas.com/wp-content/uploads/2023/02/5k.jpg
END:VEVENT
BEGIN:VEVENT
DTSTART;TZID=America/Chicago:20191123T170000
DTEND;TZID=America/Chicago:20191123T220000
DTSTAMP:20260420T064914
CREATED:20190917T154732Z
LAST-MODIFIED:20191113T204930Z
UID:2370-1574528400-1574546400@visitharlingentexas.com
SUMMARY:Harlingen Fall Festival
DESCRIPTION:Save the date for the 2nd annual Harlingen Fall Festival! \nFREE ADMISSION \nLive music\, carnival rides\, pumpkin patch\, beer garden\, and so much more! \nSTAY TUNED FOR LINEUP DETAILS COMING SOON. \nFor sponsorship and vendor information contact the Harlingen CVB at (956) 622-5053 or email Janie at jrea@myharlingen.us.
URL:https://visitharlingentexas.com/event/harlingen-fall-festival-2/
LOCATION:Harlingen Field\, 1216 Fair Park Blvd\, Harlingen\, TX\, 78550\, United States
ATTACH;FMTTYPE=image/jpeg:https://visitharlingentexas.com/wp-content/uploads/2019/11/Fall-Festival-Banner-2019.jpg
ORGANIZER;CN="Harlingen CVB":MAILTO:jrea@myharlingen.us
END:VEVENT
END:VCALENDAR