BEGIN:VCALENDAR
VERSION:2.0
PRODID:-//Visit Harlingen, Texas - ECPv6.15.20//NONSGML v1.0//EN
CALSCALE:GREGORIAN
METHOD:PUBLISH
X-ORIGINAL-URL:https://visitharlingentexas.com
X-WR-CALDESC:Events for Visit Harlingen, Texas
REFRESH-INTERVAL;VALUE=DURATION:PT1H
X-Robots-Tag:noindex
X-PUBLISHED-TTL:PT1H
BEGIN:VTIMEZONE
TZID:America/Chicago
BEGIN:DAYLIGHT
TZOFFSETFROM:-0600
TZOFFSETTO:-0500
TZNAME:CDT
DTSTART:20170312T080000
END:DAYLIGHT
BEGIN:STANDARD
TZOFFSETFROM:-0500
TZOFFSETTO:-0600
TZNAME:CST
DTSTART:20171105T070000
END:STANDARD
BEGIN:DAYLIGHT
TZOFFSETFROM:-0600
TZOFFSETTO:-0500
TZNAME:CDT
DTSTART:20180311T080000
END:DAYLIGHT
BEGIN:STANDARD
TZOFFSETFROM:-0500
TZOFFSETTO:-0600
TZNAME:CST
DTSTART:20181104T070000
END:STANDARD
BEGIN:DAYLIGHT
TZOFFSETFROM:-0600
TZOFFSETTO:-0500
TZNAME:CDT
DTSTART:20190310T080000
END:DAYLIGHT
BEGIN:STANDARD
TZOFFSETFROM:-0500
TZOFFSETTO:-0600
TZNAME:CST
DTSTART:20191103T070000
END:STANDARD
END:VTIMEZONE
BEGIN:VEVENT
DTSTART;TZID=America/Chicago:20180906T083000
DTEND;TZID=America/Chicago:20180906T083000
DTSTAMP:20260424T103524
CREATED:20180822T195023Z
LAST-MODIFIED:20180822T201039Z
UID:708-1536222600-1536222600@visitharlingentexas.com
SUMMARY:Downtown Coffee
DESCRIPTION:Coffee and conversation on Harlingen’s Downtown!
URL:https://visitharlingentexas.com/event/southern-star-tape-takeover-at-rio-grande-grill/
LOCATION:J&B Cafe\, 204 E Jackson St\, Harlingen\, TX\, 78550\, United States
GEO:26.1926402;-97.6943211
X-APPLE-STRUCTURED-LOCATION;VALUE=URI;X-ADDRESS=J&B Cafe 204 E Jackson St Harlingen TX 78550 United States;X-APPLE-RADIUS=500;X-TITLE=204 E Jackson St:geo:-97.6943211,26.1926402
END:VEVENT
END:VCALENDAR