BEGIN:VCALENDAR
VERSION:2.0
PRODID:-//Visit Harlingen, Texas - ECPv6.15.20//NONSGML v1.0//EN
CALSCALE:GREGORIAN
METHOD:PUBLISH
X-WR-CALNAME:Visit Harlingen, Texas
X-ORIGINAL-URL:https://visitharlingentexas.com
X-WR-CALDESC:Events for Visit Harlingen, Texas
REFRESH-INTERVAL;VALUE=DURATION:PT1H
X-Robots-Tag:noindex
X-PUBLISHED-TTL:PT1H
BEGIN:VTIMEZONE
TZID:America/Chicago
BEGIN:DAYLIGHT
TZOFFSETFROM:-0600
TZOFFSETTO:-0500
TZNAME:CDT
DTSTART:20250309T080000
END:DAYLIGHT
BEGIN:STANDARD
TZOFFSETFROM:-0500
TZOFFSETTO:-0600
TZNAME:CST
DTSTART:20251102T070000
END:STANDARD
BEGIN:DAYLIGHT
TZOFFSETFROM:-0600
TZOFFSETTO:-0500
TZNAME:CDT
DTSTART:20260308T080000
END:DAYLIGHT
BEGIN:STANDARD
TZOFFSETFROM:-0500
TZOFFSETTO:-0600
TZNAME:CST
DTSTART:20261101T070000
END:STANDARD
BEGIN:DAYLIGHT
TZOFFSETFROM:-0600
TZOFFSETTO:-0500
TZNAME:CDT
DTSTART:20270314T080000
END:DAYLIGHT
BEGIN:STANDARD
TZOFFSETFROM:-0500
TZOFFSETTO:-0600
TZNAME:CST
DTSTART:20271107T070000
END:STANDARD
END:VTIMEZONE
BEGIN:VEVENT
DTSTART;TZID=America/Chicago:20260530T193000
DTEND;TZID=America/Chicago:20260530T193000
DTSTAMP:20260423T052659
CREATED:20260309T164012Z
LAST-MODIFIED:20260309T164012Z
UID:4702-1780169400-1780169400@visitharlingentexas.com
SUMMARY:Red Crowns vs. Austin United FC- Bark In the Park
DESCRIPTION:
URL:https://visitharlingentexas.com/event/red-crowns-vs-austin-united-fc-bark-in-the-park/
LOCATION:Lon C. Hill Park\, 1217 Fair Park Blvd\, Harlingen\, TX\, 78550\, United States
ATTACH;FMTTYPE=image/png:https://visitharlingentexas.com/wp-content/uploads/2026/03/RGV_Crest1-3.png
END:VEVENT
BEGIN:VEVENT
DTSTART;TZID=America/Chicago:20260626T193000
DTEND;TZID=America/Chicago:20260626T193000
DTSTAMP:20260423T052659
CREATED:20260309T164120Z
LAST-MODIFIED:20260309T164120Z
UID:4703-1782502200-1782502200@visitharlingentexas.com
SUMMARY:Red Crowns vs Capital City SC- First Responders Night
DESCRIPTION:
URL:https://visitharlingentexas.com/event/red-crowns-vs-capital-city-sc-first-responders-night/
LOCATION:Lon C. Hill Park\, 1217 Fair Park Blvd\, Harlingen\, TX\, 78550\, United States
ATTACH;FMTTYPE=image/png:https://visitharlingentexas.com/wp-content/uploads/2026/03/RGV_Crest1-3.png
END:VEVENT
BEGIN:VEVENT
DTSTART;TZID=America/Chicago:20260628T193000
DTEND;TZID=America/Chicago:20260628T193000
DTSTAMP:20260423T052659
CREATED:20260309T164250Z
LAST-MODIFIED:20260309T164250Z
UID:4704-1782675000-1782675000@visitharlingentexas.com
SUMMARY:Red Crowns vs. FC Westlake- Lucha Libre Night
DESCRIPTION:
URL:https://visitharlingentexas.com/event/red-crowns-vs-fc-westlake-lucha-libre-night/
LOCATION:Lon C. Hill Park\, 1217 Fair Park Blvd\, Harlingen\, TX\, 78550\, United States
ATTACH;FMTTYPE=image/png:https://visitharlingentexas.com/wp-content/uploads/2026/03/RGV_Crest1-3.png
END:VEVENT
BEGIN:VEVENT
DTSTART;TZID=America/Chicago:20260703T193000
DTEND;TZID=America/Chicago:20260703T193000
DTSTAMP:20260423T052659
CREATED:20260309T164819Z
LAST-MODIFIED:20260309T164819Z
UID:4707-1783107000-1783107000@visitharlingentexas.com
SUMMARY:Red Crowns vs. BTX SC- 956 Night
DESCRIPTION:
URL:https://visitharlingentexas.com/event/red-crowns-vs-btx-sc-956-night/
LOCATION:Lon C. Hill Park\, 1217 Fair Park Blvd\, Harlingen\, TX\, 78550\, United States
ATTACH;FMTTYPE=image/png:https://visitharlingentexas.com/wp-content/uploads/2026/03/RGV_Crest1-3.png
END:VEVENT
END:VCALENDAR