BEGIN:VCALENDAR
VERSION:2.0
PRODID:-//Visit Harlingen, Texas - ECPv6.15.20//NONSGML v1.0//EN
CALSCALE:GREGORIAN
METHOD:PUBLISH
X-WR-CALNAME:Visit Harlingen, Texas
X-ORIGINAL-URL:https://visitharlingentexas.com
X-WR-CALDESC:Events for Visit Harlingen, Texas
REFRESH-INTERVAL;VALUE=DURATION:PT1H
X-Robots-Tag:noindex
X-PUBLISHED-TTL:PT1H
BEGIN:VTIMEZONE
TZID:America/Chicago
BEGIN:DAYLIGHT
TZOFFSETFROM:-0600
TZOFFSETTO:-0500
TZNAME:CDT
DTSTART:20180311T080000
END:DAYLIGHT
BEGIN:STANDARD
TZOFFSETFROM:-0500
TZOFFSETTO:-0600
TZNAME:CST
DTSTART:20181104T070000
END:STANDARD
BEGIN:DAYLIGHT
TZOFFSETFROM:-0600
TZOFFSETTO:-0500
TZNAME:CDT
DTSTART:20190310T080000
END:DAYLIGHT
BEGIN:STANDARD
TZOFFSETFROM:-0500
TZOFFSETTO:-0600
TZNAME:CST
DTSTART:20191103T070000
END:STANDARD
BEGIN:DAYLIGHT
TZOFFSETFROM:-0600
TZOFFSETTO:-0500
TZNAME:CDT
DTSTART:20200308T080000
END:DAYLIGHT
BEGIN:STANDARD
TZOFFSETFROM:-0500
TZOFFSETTO:-0600
TZNAME:CST
DTSTART:20201101T070000
END:STANDARD
END:VTIMEZONE
BEGIN:VEVENT
DTSTART;TZID=America/Chicago:20190928T180000
DTEND;TZID=America/Chicago:20190928T220000
DTSTAMP:20260420T065144
CREATED:20190719T182220Z
LAST-MODIFIED:20190719T182220Z
UID:2311-1569693600-1569708000@visitharlingentexas.com
SUMMARY:Men who Cook
DESCRIPTION:Men Who Cook is made of 3 team members\, there will be plenty of delicious comfort and gourmet dishes to try. Each team’s mission is to raise donations and bring their best dishes to this event. This year we are teaming with City of Harlingen\, McDonalds of the RGV\, and local vendors to make our third annual event even better.
URL:https://visitharlingentexas.com/event/men-who-cook/
LOCATION:Ronald McDonald House Charities RGV\, 1720 Treasure Hills Blvd\, Harlingen\, TX\, 78550\, United States
END:VEVENT
END:VCALENDAR