BEGIN:VCALENDAR
VERSION:2.0
PRODID:-//Visit Harlingen, Texas - ECPv6.15.20//NONSGML v1.0//EN
CALSCALE:GREGORIAN
METHOD:PUBLISH
X-WR-CALNAME:Visit Harlingen, Texas
X-ORIGINAL-URL:https://visitharlingentexas.com
X-WR-CALDESC:Events for Visit Harlingen, Texas
REFRESH-INTERVAL;VALUE=DURATION:PT1H
X-Robots-Tag:noindex
X-PUBLISHED-TTL:PT1H
BEGIN:VTIMEZONE
TZID:America/Chicago
BEGIN:DAYLIGHT
TZOFFSETFROM:-0600
TZOFFSETTO:-0500
TZNAME:CDT
DTSTART:20180311T080000
END:DAYLIGHT
BEGIN:STANDARD
TZOFFSETFROM:-0500
TZOFFSETTO:-0600
TZNAME:CST
DTSTART:20181104T070000
END:STANDARD
BEGIN:DAYLIGHT
TZOFFSETFROM:-0600
TZOFFSETTO:-0500
TZNAME:CDT
DTSTART:20190310T080000
END:DAYLIGHT
BEGIN:STANDARD
TZOFFSETFROM:-0500
TZOFFSETTO:-0600
TZNAME:CST
DTSTART:20191103T070000
END:STANDARD
BEGIN:DAYLIGHT
TZOFFSETFROM:-0600
TZOFFSETTO:-0500
TZNAME:CDT
DTSTART:20200308T080000
END:DAYLIGHT
BEGIN:STANDARD
TZOFFSETFROM:-0500
TZOFFSETTO:-0600
TZNAME:CST
DTSTART:20201101T070000
END:STANDARD
END:VTIMEZONE
BEGIN:VEVENT
DTSTART;TZID=America/Chicago:20190622T190000
DTEND;TZID=America/Chicago:20190622T220000
DTSTAMP:20260423T055033
CREATED:20190611T212152Z
LAST-MODIFIED:20190611T212152Z
UID:2280-1561230000-1561240800@visitharlingentexas.com
SUMMARY:Songwriters in the Round
DESCRIPTION:We’re thrilled to present our new Saturday series: Songwriters in the Round featuring Angel Rodriguez & friends! During our Saturday performances\, some of our region’s premiere songwriters share the stage\, swap songs\, and reveal the stories behind their songs in an intimate listening room atmosphere. Visit our web calendar or give us a call to find out who’s performing this week.
URL:https://visitharlingentexas.com/event/songwriters-in-the-round/2019-06-22/
LOCATION:The Prelude\, 113 E. Jackson St.\, Harlingen\, TX\, 78550\, United States
END:VEVENT
BEGIN:VEVENT
DTSTART;TZID=America/Chicago:20190618T190000
DTEND;TZID=America/Chicago:20190618T220000
DTSTAMP:20260423T055033
CREATED:20190611T212533Z
LAST-MODIFIED:20190611T212533Z
UID:2283-1560884400-1560895200@visitharlingentexas.com
SUMMARY:Game & Vinyl Night in Harlingen
DESCRIPTION:Our Community Game Night is every Tuesday night starting at 7pm. Bring your family and friends and choose from our assortment of board games and card games — or set up at the bar and play some Super Nintendo! Also\, if you bring in your favorite vinyl record\, we’ll go ahead and spin that for you and blast those tunes through our house speaker system. Free for everyone\, and don’t forget to head over to our bar to order up some food\, bottomless coffee\, and desserts for the night!
URL:https://visitharlingentexas.com/event/game-vinyl-night-in-harlingen/2019-06-18/
LOCATION:The Prelude\, 113 E. Jackson St.\, Harlingen\, TX\, 78550\, United States
END:VEVENT
END:VCALENDAR